BEGIN:VCALENDAR
VERSION:2.0
PRODID:-//wp-events-plugin.com//7.2.3.1//EN
TZID:America/New_York
X-WR-TIMEZONE:America/New_York
BEGIN:VEVENT
UID:153163@kingstonhappenings.org
DTSTART;TZID=America/New_York:20260103T170000
DTEND;TZID=America/New_York:20260103T210000
DTSTAMP:20260105T132504Z
URL:https://kingstonhappenings.org/events/connecting-emergence-paul-keskey
 /
SUMMARY:CONNECTING EMERGENCE : Paul Keskey
DESCRIPTION:The opening reception for CONNECTING EMERGENCE\; The Art of Pau
 l Keskey will be on Saturday\, January 3rd from 5pm to 9pm. Paul Keskey is
  a New Paltz based illustrator\, oil painter\, a lepidopterologist (he stu
 dies butterflies)\, and the the author of  A  Field Guide to Chrysalies\
 ; They’re Not Faeries\,  a spectacular book that opens the door to the 
 world of Chrysalies. He spends lots of time in the woods soaking in the na
 tural surroundings\, the dappled sunlight through a forest canopy\, the ri
 pples and eddies in a fast moving stream\, the meandering flight of insect
 s over a woodland meadow… all of which he takes back to his art studio a
 nd allows his imagination to take over. Here he creates a world where peop
 le\, and nature are interconnected. Through his use of composition\, anato
 my\, and color he opens wide our senses to visual stories allowing us to s
 tep in to new discoveries of our relationship with nature.           
                           .
ATTACH;FMTTYPE=image/jpeg:https://kingstonhappenings.org/wp-content/upload
 s/2025/12/The-Apprentice.jpg
CATEGORIES:@Featured,Art
LOCATION:The Lace Mill\, 165 Cornell St.\, Kingston\, New York\, 12401\, Un
 ited States
GEO:41.934636;-73.99857700000001
X-APPLE-STRUCTURED-LOCATION;VALUE=URI;X-ADDRESS=165 Cornell St.\, Kingston\
 , New York\, 12401\, United States;X-APPLE-RADIUS=100;X-TITLE=The Lace Mil
 l:geo:41.934636,-73.99857700000001
END:VEVENT
BEGIN:VTIMEZONE
TZID:America/New_York
X-LIC-LOCATION:America/New_York
BEGIN:STANDARD
DTSTART:20251102T010000
TZOFFSETFROM:-0400
TZOFFSETTO:-0500
TZNAME:EST
END:STANDARD
END:VTIMEZONE
END:VCALENDAR