BEGIN:VCALENDAR
VERSION:2.0
PRODID:-//wp-events-plugin.com//7.2.3.1//EN
TZID:America/New_York
X-WR-TIMEZONE:America/New_York
BEGIN:VEVENT
UID:152427@kingstonhappenings.org
DTSTART;TZID=America/New_York:20251108T133000
DTEND;TZID=America/New_York:20251108T170000
DTSTAMP:20251103T160741Z
URL:https://kingstonhappenings.org/events/confronting-our-energy-crisis-do
 cumentary-screening-and-discussion/
SUMMARY:Confronting Our Energy Crisis: Documentary Screening and Discussion
DESCRIPTION:New York is in an energy crisis. Despite tens of billions of do
 llars of investments\, electric and heating bills are going higher and hig
 her for families and businesses. Fights over land use\, control and differ
 ent types of energy have no end in sight.\n\nDoes the Hudson Valley have t
 he moral fitness to find solutions that are good for our state\, country a
 nd humanity as a whole? To solve the problem\, we first must understand ho
 w we got here.\n\nJoin us for a screening of Kingston resident Fox Green
 ’s latest documentary\, Energy/Empire: America’s Green Counter-Revolut
 ion\, which tells a uniquely Hudson Valley story that starts with the Amer
 ican Revolution\, detours to the dark founding of the eugenics movement\, 
 and recounts the true contours of the lawfare that blocked the Storm King 
 pumped hydro project and helped RFK Jr. shut down the Indian Point nuclear
  plant.\n\nAfterwards\, continue the conversation with a panel discussion 
 and Q&amp\;A with:\n\nFox Green\, co-founder of New York Energy Alliance a
 nd Kingston Creative\nSteve Carroll\, President and Business Manager of IB
 EW Local 320\nJillian Fried\, an emerging leader in the No Battery Plant o
 n Hurley Ave movement.\n\nScreening: The film will start promptly at 2 PM.
 \n\nPanel Discussion: The discussion will run from 4 to 4:45 PM.\n\nDon’
 t miss this opportunity to engage with history\, philosophy\, organized la
 bor and local leaders in charting our energy future. We look forward to se
 eing you there!
CATEGORIES:@Featured,@Newsletter,Educational classes and
 lectures,History,Movies
LOCATION:Kingston Library\, 61 Crown St\, Kingston\, NY\, 12401\, United St
 ates
GEO:41.934381;-74.021982
X-APPLE-STRUCTURED-LOCATION;VALUE=URI;X-ADDRESS=61 Crown St\, Kingston\, NY
 \, 12401\, United States;X-APPLE-RADIUS=100;X-TITLE=Kingston Library:geo:4
 1.934381,-74.021982
END:VEVENT
BEGIN:VTIMEZONE
TZID:America/New_York
X-LIC-LOCATION:America/New_York
BEGIN:STANDARD
DTSTART:20251102T010000
TZOFFSETFROM:-0400
TZOFFSETTO:-0500
TZNAME:EST
END:STANDARD
END:VTIMEZONE
END:VCALENDAR