BEGIN:VCALENDAR
VERSION:2.0
PRODID:-//wp-events-plugin.com//7.2.3.1//EN
TZID:America/New_York
X-WR-TIMEZONE:America/New_York
BEGIN:VEVENT
UID:155812@kingstonhappenings.org
DTSTART;TZID=America/New_York:20260314T193000
DTEND;TZID=America/New_York:20260314T193000
DTSTAMP:20260316T123701Z
URL:https://kingstonhappenings.org/events/concert-unity-love-and-the-new-w
 orld/
SUMMARY:Concert: Unity\, Love and the New World
DESCRIPTION:Valerie Coleman\, Umoja\, Anthem of UnityGiuseppe Verdi\, selec
 tions from La Traviata\, Act ISoprano Paulina SwierczekTenor Heejae KimAnt
 onin Dvoràk\, Symphony No. 9\, From the New World
ATTACH;FMTTYPE=image/jpeg:https://kingstonhappenings.org/wp-content/upload
 s/2026/03/648656736_1512227404242145_7054625111635186095_n.jpg
CATEGORIES:@Featured,@Newsletter,Community,Music,Nightlife and
 entertainment
LOCATION:Woodstock Playhouse\, 103 Mill Hill Rd\, Woodstock\, New York\, 12
 401\, United States
GEO:42.0384701;-74.11116179999999
X-APPLE-STRUCTURED-LOCATION;VALUE=URI;X-ADDRESS=103 Mill Hill Rd\, Woodstoc
 k\, New York\, 12401\, United States;X-APPLE-RADIUS=100;X-TITLE=Woodstock 
 Playhouse:geo:42.0384701,-74.11116179999999
END:VEVENT
BEGIN:VTIMEZONE
TZID:America/New_York
X-LIC-LOCATION:America/New_York
BEGIN:DAYLIGHT
DTSTART:20260308T030000
TZOFFSETFROM:-0500
TZOFFSETTO:-0400
TZNAME:EDT
END:DAYLIGHT
END:VTIMEZONE
END:VCALENDAR