BEGIN:VCALENDAR
VERSION:2.0
PRODID:-//wp-events-plugin.com//7.2.3.1//EN
TZID:America/New_York
X-WR-TIMEZONE:America/New_York
BEGIN:VEVENT
UID:152117@kingstonhappenings.org
DTSTART;TZID=America/New_York:20251120T113000
DTEND;TZID=America/New_York:20251120T140000
DTSTAMP:20250930T210819Z
URL:https://kingstonhappenings.org/events/community-lunch-home-stories-mat
 ter/
SUMMARY:Community Lunch: Home Stories Matter
DESCRIPTION:Join us on Thursday\, November 20th\, at Novellas for RUPCO’s
  annual Community Lunch: Home Stories Matter – a gathering that will cel
 ebrate connection\, impact\, and the power of home.\nThis year\, we’re d
 oing something special. Instead of a keynote speaker\, we're shining the s
 potlight on the people at the heart of our mission: creating homes\, suppo
 rting people\, and improving communities. Home Stories Matter will amplify
  the voices of community members whose lives have been impacted by RUPCO
 ’s work.\nFor more than 40 years\, RUPCO has been building brighter futu
 res across the Hudson Valley. We’ve helped residents find stability in s
 afe\, affordable homes and provided vital rental assistance to households 
 in need. Through the administration of millions in grant funding\, we’ve
  opened doors for families to purchase their first home\, repair the one t
 hey cherish\, and even create new housing through Accessory Dwelling Units
 . We’ve empowered landlords to make long-overdue repairs and supported l
 ocal contractors whose businesses continue to grow through our housing ini
 tiatives. Together\, these stories show the ripple effect of what’s poss
 ible when a community invests in housing—and in each other.\nCome share 
 in the stories\, the celebration\, and the community spirit.\nTickets &amp
 \; Sponsorships: https://rupco.salsalabs.org/communitylunch2025/index.html
ATTACH;FMTTYPE=image/jpeg:https://kingstonhappenings.org/wp-content/upload
 s/2025/09/CL25-Coverpage-1-1.png
CATEGORIES:@Featured,Community
LOCATION:Novella's\, 2 Terwilliger Lane \, New Paltz\, NY\, 12561\, United 
 States
GEO:41.740196;-74.065668
X-APPLE-STRUCTURED-LOCATION;VALUE=URI;X-ADDRESS=2 Terwilliger Lane \, New P
 altz\, NY\, 12561\, United States;X-APPLE-RADIUS=100;X-TITLE=Novella's:geo
 :41.740196,-74.065668
END:VEVENT
BEGIN:VTIMEZONE
TZID:America/New_York
X-LIC-LOCATION:America/New_York
BEGIN:STANDARD
DTSTART:20251102T010000
TZOFFSETFROM:-0400
TZOFFSETTO:-0500
TZNAME:EST
END:STANDARD
END:VTIMEZONE
END:VCALENDAR