BEGIN:VCALENDAR
VERSION:2.0
PRODID:-//wp-events-plugin.com//7.2.3.1//EN
TZID:America/New_York
X-WR-TIMEZONE:America/New_York
BEGIN:VEVENT
UID:154755@kingstonhappenings.org
DTSTART;TZID=America/New_York:20260116T120000
DTEND;TZID=America/New_York:20260626T150000
DTSTAMP:20260420T164308Z
URL:https://kingstonhappenings.org/events/community-lunch-and-take-home-me
 als-at-the-comforter-of-kingston/
SUMMARY:Community Lunch and Take Home Meals at The Comforter of Kingston
DESCRIPTION:Join us for our community lunchEvery Friday from 12:00 Noon –
  2:00PM\nEat in or take out whatever you prefer.\nEach Friday we'll offer 
 some sort of pasta casserole (like lasagna\, or mac &amp\;cheese)\, homema
 de soup\, tossed salad\, beverages\, something sweet...\nMaybe even grille
 d cheese sandwiches\, or chili\, or hot dogs with all the fixings... Of co
 urse\, not all these things each Friday but definitely something different
  and delicious every week.\nA nominal donation for your meal will be sugge
 sted and will align with whatever you choose to eat or can afford.\nCome\,
  enjoy fellowship and join us for lunch!\nAny questions\, want to know wha
 t is on the menu for this Friday? Reach out to Pastor Nick at nickalexrama
 @gmail.com
ATTACH;FMTTYPE=image/jpeg:https://kingstonhappenings.org/wp-content/upload
 s/2026/01/611402038_1305388868283081_776686462591951219_n.jpg
CATEGORIES:@Featured,@Newsletter,Community
LOCATION:Reform Church of the Comforter\, 26 Wynkoop Place\, Kingston\, NY\
 , 12401\, United States
GEO:41.9299802;-73.99356460000001
X-APPLE-STRUCTURED-LOCATION;VALUE=URI;X-ADDRESS=26 Wynkoop Place\, Kingston
 \, NY\, 12401\, United States;X-APPLE-RADIUS=100;X-TITLE=Reform Church of 
 the Comforter:geo:41.9299802,-73.99356460000001
END:VEVENT
BEGIN:VTIMEZONE
TZID:America/New_York
X-LIC-LOCATION:America/New_York
BEGIN:STANDARD
DTSTART:20251102T010000
TZOFFSETFROM:-0400
TZOFFSETTO:-0500
TZNAME:EST
END:STANDARD
BEGIN:DAYLIGHT
DTSTART:20260308T030000
TZOFFSETFROM:-0500
TZOFFSETTO:-0400
TZNAME:EDT
END:DAYLIGHT
END:VTIMEZONE
END:VCALENDAR