BEGIN:VCALENDAR
VERSION:2.0
PRODID:-//wp-events-plugin.com//7.2.3.1//EN
TZID:America/New_York
X-WR-TIMEZONE:America/New_York
BEGIN:VEVENT
UID:152796@kingstonhappenings.org
DTSTART;TZID=America/New_York:20251129T100000
DTEND;TZID=America/New_York:20251129T130000
DTSTAMP:20251124T133111Z
URL:https://kingstonhappenings.org/events/community-coat-giveaway/
SUMMARY:Community Coat Giveaway
DESCRIPTION:Come out and see us on Saturday November 29th to get ready for 
 winter!\nWe will have coats\, hats\, gloves\, and scarves available in a v
 ariety of sizes!\nEach person attending will be able to get one set of win
 ter gear that is specifically sized to them so if you know someone in need
  make sure that they attend the event themselves! (Unfortunately we will n
 ot be able to let shoppers pick up items for others the day of the event! 
 Sorry for any inconvenience!)
ATTACH;FMTTYPE=image/jpeg:https://kingstonhappenings.org/wp-content/upload
 s/2025/11/548854462_778887091534452_6842113171797001116_n.jpg
CATEGORIES:@Featured,@Newsletter,Community
LOCATION:St. James Methodist Church\, 35 Pearl St.\, Kingston\, NY\, 12401\
 , United States
GEO:41.9321262;-74.01715179999997
X-APPLE-STRUCTURED-LOCATION;VALUE=URI;X-ADDRESS=35 Pearl St.\, Kingston\, N
 Y\, 12401\, United States;X-APPLE-RADIUS=100;X-TITLE=St. James Methodist C
 hurch:geo:41.9321262,-74.01715179999997
END:VEVENT
BEGIN:VTIMEZONE
TZID:America/New_York
X-LIC-LOCATION:America/New_York
BEGIN:STANDARD
DTSTART:20251102T010000
TZOFFSETFROM:-0400
TZOFFSETTO:-0500
TZNAME:EST
END:STANDARD
END:VTIMEZONE
END:VCALENDAR