BEGIN:VCALENDAR
VERSION:2.0
PRODID:-//wp-events-plugin.com//7.2.3.1//EN
TZID:America/New_York
X-WR-TIMEZONE:America/New_York
BEGIN:VEVENT
UID:155370@kingstonhappenings.org
DTSTART;TZID=America/New_York:20260306T053000
DTEND;TZID=America/New_York:20260306T193000
DTSTAMP:20260302T202636Z
URL:https://kingstonhappenings.org/events/comida-y-tierra-saberes-que-sana
 n-knowledge-that-heals/
SUMMARY:Comida y tierra - Saberes Que Sanan / Knowledge That Heals
DESCRIPTION:Comida y tierra: Knowledge That Heals - A talk on ancestral car
 e for difficult times\n\nMaya Q'eqchi' interpretation\, special guests\, m
 usic\, self-care gifts\, and more!\n\nThis is a space dedicated to women\,
  woman-identified people\, and our allies.\n\nHow do we sustain ourselves 
 when times are heavy? We look to the plants\, our cultures\, and each oth
 er. We are gathering to share ancestral knowledge that heals\, featuring I
 ndigenous facilitators\, Maya Q'eqchi' and English interpretation\, live m
 usic\, and nourishing foods.\n\nWhether you are seeking a moment of peace\
 , a deeper connection to plant medicine\, or community support\, there is 
 a seat for you at this circle.\n\nLocation:\nTortillería Y Cafetería Gua
 temalteca Har-Sinaí\n8 Van Buren Street\nKingston\, NY 12401\n\n____\n\nI
 f you have at least a beginner level of conversational Spanish\, we ask th
 at you register for the event. We are committed to doing everything possi
 ble to protect and gather in solidarity with our beloved immigrant communi
 ty.\n\nAs always\, tickets are free for native Spanish speakers and a sugg
 ested donation of $30 for non-native Spanish speakers to support the meal 
 of your conversation partners.\n\n&nbsp\;
CATEGORIES:@Featured,@Newsletter,Community
LOCATION:Kingston\, N.Y.\, 350 broadway\, Kingston\, NY\, 12401\, United St
 ates
GEO:41.926112;-73.99336599999998
X-APPLE-STRUCTURED-LOCATION;VALUE=URI;X-ADDRESS=350 broadway\, Kingston\, N
 Y\, 12401\, United States;X-APPLE-RADIUS=100;X-TITLE=Kingston\, N.Y.:geo:4
 1.926112,-73.99336599999998
END:VEVENT
BEGIN:VTIMEZONE
TZID:America/New_York
X-LIC-LOCATION:America/New_York
BEGIN:STANDARD
DTSTART:20251102T010000
TZOFFSETFROM:-0400
TZOFFSETTO:-0500
TZNAME:EST
END:STANDARD
END:VTIMEZONE
END:VCALENDAR