BEGIN:VCALENDAR
VERSION:2.0
PRODID:-//wp-events-plugin.com//7.2.3.1//EN
TZID:America/New_York
X-WR-TIMEZONE:America/New_York
BEGIN:VEVENT
UID:152271@kingstonhappenings.org
DTSTART;TZID=America/New_York:20251018T190000
DTEND;TZID=America/New_York:20251018T220000
DTSTAMP:20251013T172047Z
URL:https://kingstonhappenings.org/events/comateens-and-tulula/
SUMMARY:Comateens and Tulula!
DESCRIPTION:\nComateens were founded in the burgeoning New York City rock s
 cene of the late ‘70s — one of the first groups to discard the traditi
 onal sounds and line-ups that were standard in historical downtown venues 
 like Max’s Kansas City and CBGB. The band mutated throughout three major
  label album releases (Comateens\, Pictures On A String\, and Deal With It
 )\, leaving some dance-club hits behind them and confusing and delighting 
 audiences at home and abroad.\nDisbanding upon the untimely and tragic dea
 th of guitarist Oliver North\, Nicholas West and Lyn Byrd continued record
 ing as a duo\, releasing the album West &amp\; Byrd in 1988\, and are curr
 ently working on new material and performing in NY. Tricatel Records re-re
 leased a three album Comateens deluxe set in 2019. Lyn and Nic will be per
 forming as a duo in this show at Chromatic Studios.\ncomateens.com\ntricat
 el.com/product/1980-1985/\n‘Ghosts’ 7″ single\n\nTulula!\nTulula! ha
 s been stomping around Rip Van Winkle’s dreamland since the mid-oughts. 
 The Acid-Cowboy quintet including Jason Broome\, Rob Norris\, Daniel Weint
 raub\, and Megan Gugliotta comes off like a mosh pit at a gypsy carnival f
 ollowed by a séance with the 27 club. Between them\, these veterans of th
 e underground have toured the world\, recorded over thirty-five albums and
  eaten like princes with paupers. Tulula! is sure to whisk you one dance a
 way from the happy farm.\ndiablodulce.com/tulula\n\n\n\n
ATTACH;FMTTYPE=image/jpeg:https://kingstonhappenings.org/wp-content/upload
 s/2025/10/20251018-comateens-1000.png
CATEGORIES:@Featured,@Newsletter,Music,Nightlife and entertainment
LOCATION:Chromatic Studios\, 71 O'Neil St. \, Kingston\, NY\, 12401\, Unite
 d States
GEO:41.932209;-74.003624
X-APPLE-STRUCTURED-LOCATION;VALUE=URI;X-ADDRESS=71 O'Neil St. \, Kingston\,
  NY\, 12401\, United States;X-APPLE-RADIUS=100;X-TITLE=Chromatic Studios:g
 eo:41.932209,-74.003624
END:VEVENT
BEGIN:VTIMEZONE
TZID:America/New_York
X-LIC-LOCATION:America/New_York
BEGIN:DAYLIGHT
DTSTART:20250309T030000
TZOFFSETFROM:-0500
TZOFFSETTO:-0400
TZNAME:EDT
END:DAYLIGHT
END:VTIMEZONE
END:VCALENDAR