BEGIN:VCALENDAR
VERSION:2.0
PRODID:-//wp-events-plugin.com//7.2.3.1//EN
TZID:America/New_York
X-WR-TIMEZONE:America/New_York
BEGIN:VEVENT
UID:151997@kingstonhappenings.org
DTSTART;TZID=America/New_York:20250924T173000
DTEND;TZID=America/New_York:20250924T200000
DTSTAMP:20250922T145210Z
URL:https://kingstonhappenings.org/events/colton-thorn/
SUMMARY:Colton Thorn
DESCRIPTION:Colony Woodstock Presents: Music on The PatioJoin us for an out
 door patio session with the wonderful Colton Thorn!Colton Thorn\, MT-BC (h
 e/they) is a board certified music therapist\, local quirky singer-songwri
 ter\, and a multi-instrumentalist and voice teacher. They studied classica
 lly at Temple University. They have a wide variety of original songs and h
 ave been performing as a singer-songwriter since 2012. Colton's music incl
 udes tender songs around transitions\, love\, grief\, and even Oreos. Thei
 r style could be described as folky with a little bit of bounce.https://ww
 w.instagram.com/ctthorn_/Wednesday\, September 24Gates 5pm | Music 5:30-8p
 mSuggested Donation
ATTACH;FMTTYPE=image/jpeg:https://kingstonhappenings.org/wp-content/upload
 s/2025/09/548575191_1433420311916860_1494398359021235995_n.jpg
CATEGORIES:@Featured,@Newsletter,Music,Nightlife and entertainment
LOCATION:Colony Woodstock NY\, 22 Rock City Rd\, Woodstock\, New York\, Uni
 ted States
GEO:42.0424924;-74.11799489999999
X-APPLE-STRUCTURED-LOCATION;VALUE=URI;X-ADDRESS=22 Rock City Rd\, Woodstock
 \, New York\, United States;X-APPLE-RADIUS=100;X-TITLE=Colony Woodstock NY
 :geo:42.0424924,-74.11799489999999
END:VEVENT
BEGIN:VTIMEZONE
TZID:America/New_York
X-LIC-LOCATION:America/New_York
BEGIN:DAYLIGHT
DTSTART:20250309T030000
TZOFFSETFROM:-0500
TZOFFSETTO:-0400
TZNAME:EDT
END:DAYLIGHT
END:VTIMEZONE
END:VCALENDAR