BEGIN:VCALENDAR
VERSION:2.0
PRODID:-//wp-events-plugin.com//7.2.3.1//EN
TZID:America/New_York
X-WR-TIMEZONE:America/New_York
BEGIN:VEVENT
UID:152302@kingstonhappenings.org
DTSTART;TZID=America/New_York:20251016T173000
DTEND;TZID=America/New_York:20251016T200000
DTSTAMP:20251013T172034Z
URL:https://kingstonhappenings.org/events/colony-woodstock-presents-music-
 on-the-patio/
SUMMARY:Colony Woodstock Presents: Music on The Patio
DESCRIPTION:oin us for the delightfully talented Peter Einhorn (guitar) and
  Lou Pappas (bass) for an evening of Jazz!Thursday\, October 16Gates 5pm |
  Music 5:30-8pmSuggested Donation
ATTACH;FMTTYPE=image/jpeg:https://kingstonhappenings.org/wp-content/upload
 s/2025/10/557600996_1446212987304259_8383530308437644945_n.jpg
CATEGORIES:@Featured,@Newsletter,Music,Nightlife and entertainment
LOCATION:Colony Woodstock NY\, 22 Rock City Rd\, Woodstock\, New York\, Uni
 ted States
GEO:42.0424924;-74.11799489999999
X-APPLE-STRUCTURED-LOCATION;VALUE=URI;X-ADDRESS=22 Rock City Rd\, Woodstock
 \, New York\, United States;X-APPLE-RADIUS=100;X-TITLE=Colony Woodstock NY
 :geo:42.0424924,-74.11799489999999
END:VEVENT
BEGIN:VTIMEZONE
TZID:America/New_York
X-LIC-LOCATION:America/New_York
BEGIN:DAYLIGHT
DTSTART:20250309T030000
TZOFFSETFROM:-0500
TZOFFSETTO:-0400
TZNAME:EDT
END:DAYLIGHT
END:VTIMEZONE
END:VCALENDAR