BEGIN:VCALENDAR
VERSION:2.0
PRODID:-//wp-events-plugin.com//7.2.3.1//EN
TZID:America/New_York
X-WR-TIMEZONE:America/New_York
BEGIN:VEVENT
UID:151901@kingstonhappenings.org
DTSTART;TZID=America/New_York:20250925T160000
DTEND;TZID=America/New_York:20250925T180000
DTSTAMP:20250917T012614Z
URL:https://kingstonhappenings.org/events/collard-green-tasting-harvest-ga
 thering/
SUMMARY:Collard Green Tasting &amp\; Harvest Gathering
DESCRIPTION:To support and uplift the many wonderful community events happe
 ning on the original date\, we are postponing our Harvest Gathering. Inste
 ad\, we’re excited to invite you to join us for a Collard Green Tasting 
 &amp\; Harvest Gathering In partnership with Dream Garden Rainbow Snake at
  the Rondout Community Garden.\nThis year\, we are excited to connect our 
 harvest to the Purple Ultracross Collard Project\, a Hudson Valley Farm H
 ub initiative that honors these traditions while expanding biodiversity an
 d preserving heirloom varieties for future generations. Collard greens hol
 d deep cultural significance in African American foodways\, representing r
 esilience\, survival\, and the sharing of sustenance across generations. T
 hey are a cornerstone of Southern cuisine and a living symbol of heritage 
 carried through the African diaspora.\nParticipants will also have the opp
 ortunity to take home a bag of fresh veggies and collards (as supplies las
 t)—so RSVP and don’t forget to bring a tote!\nThis event is free\, but
  you can contribute in the following ways:\nBring seeds if you have some t
 o share.\nShare your family collard recipes!\nBring your good vibes and wi
 llingness to try something new if this is your first time.\nWhere\nRondout
  Community Garden\n105 Broadway\nKingston \, NY 12401\nUnited States\n\nFr
 ee -  Please RSVP
ATTACH;FMTTYPE=image/jpeg:https://kingstonhappenings.org/wp-content/upload
 s/2025/09/Screenshot-2025-09-16-at-4.34.40-PM.png
CATEGORIES:@Featured
LOCATION:Kingston\, NY\, 1 FakeStreetNameSoCheckDetail\, Kingston\, NY\, 12
 401\, United States
GEO:41.9270367;-73.99736080000002
X-APPLE-STRUCTURED-LOCATION;VALUE=URI;X-ADDRESS=1 FakeStreetNameSoCheckDeta
 il\, Kingston\, NY\, 12401\, United States;X-APPLE-RADIUS=100;X-TITLE=King
 ston\, NY:geo:41.9270367,-73.99736080000002
END:VEVENT
BEGIN:VTIMEZONE
TZID:America/New_York
X-LIC-LOCATION:America/New_York
BEGIN:DAYLIGHT
DTSTART:20250309T030000
TZOFFSETFROM:-0500
TZOFFSETTO:-0400
TZNAME:EDT
END:DAYLIGHT
END:VTIMEZONE
END:VCALENDAR