BEGIN:VCALENDAR
VERSION:2.0
PRODID:-//wp-events-plugin.com//7.2.3.1//EN
TZID:America/New_York
X-WR-TIMEZONE:America/New_York
BEGIN:VEVENT
UID:152731@kingstonhappenings.org
DTSTART;TZID=America/New_York:20251218T180000
DTEND;TZID=America/New_York:20251218T200000
DTSTAMP:20251216T143814Z
URL:https://kingstonhappenings.org/events/cocktails-and-collection-items/
SUMMARY:Cocktails and Collection Items
DESCRIPTION:Stop by for an exploration of items from the Reher family colle
 ction and a discussion Jewish life in the Rondout throughout time while en
 joying specialty made cocktails! Visit tinyurl.com/CollectionItemsRC to R
 SVP.
ATTACH;FMTTYPE=image/jpeg:https://kingstonhappenings.org/wp-content/upload
 s/2025/11/cocktails.png
CATEGORIES:@Featured,@Newsletter,Attraction
 Hours,Community,History,Nightlife and entertainment
LOCATION:Reher Center for Immigrant Culture and History\, 99-101 Broadway\,
  Kingston\, NY\, 12401\, United States
GEO:41.920121;-73.986003
X-APPLE-STRUCTURED-LOCATION;VALUE=URI;X-ADDRESS=99-101 Broadway\, Kingston\
 , NY\, 12401\, United States;X-APPLE-RADIUS=100;X-TITLE=Reher Center for I
 mmigrant Culture and History:geo:41.920121,-73.986003
END:VEVENT
BEGIN:VTIMEZONE
TZID:America/New_York
X-LIC-LOCATION:America/New_York
BEGIN:STANDARD
DTSTART:20251102T010000
TZOFFSETFROM:-0400
TZOFFSETTO:-0500
TZNAME:EST
END:STANDARD
END:VTIMEZONE
END:VCALENDAR