BEGIN:VCALENDAR
VERSION:2.0
PRODID:-//wp-events-plugin.com//7.2.3.1//EN
TZID:America/New_York
X-WR-TIMEZONE:America/New_York
BEGIN:VEVENT
UID:156404@kingstonhappenings.org
DTSTART;TZID=America/New_York:20260423T190000
DTEND;TZID=America/New_York:20260423T190000
DTSTAMP:20260420T164324Z
URL:https://kingstonhappenings.org/events/club-delf-ft-john-medeski-and-jo
 nathan-grusauskas-lespecial/
SUMMARY:Club d'Elf ft. John Medeski and Jonathan Grusauskas (lespecial)
DESCRIPTION:What begins as a groove in Club d’Elf’s world often becomes
  a doorway into someplace older\, stranger and unshackled by time. The ban
 d has spent twenty seven years helping audiences lose track of time with i
 ts shape-shifting fusion of Moroccan trance\, dub\, electronica\, jazz and
  improvised funk. Built around bassist and composer Mike Rivard\, each per
 formance features a rotating cast drawn from Boston\, New York and beyond\
 , creating a constantly shifting ecosystem where trance forms the central 
 core of the band’s aesthetic. Under longtime member and Casablanca nativ
 e Brahim Fribgane\, the group absorbed Moroccan trance music deeply into i
 ts DNA. Fribgane passed away in early 2024\, but his spirit remains embedd
 ed in the band’s sound\, especially through Rivard’s commanding sintir
  work\, learned under the guidance of Fribgane and Gnawa masters Hassan Ha
 kmoun and Mahmoud Guinia.\nTheir new album\, Loon and Thrush (due out 4/10
 /26)\, recorded entirely live in the studio with minimal overdubs\, channe
 ls that lineage into a raw\, improvisatory flight. While largely built on 
 Rivard originals\, the album continues the band’s tradition of honoring 
 key influences\, offering Moroccan-infused takes on Grateful Dead classics
  “Bird Song” and “New Speedway Boogie.” The overarching theme of t
 he record is “flight” itself — the avian imagery of the title track\
 , the Dead’s celestial wanderings\, and the enduring presence of Fribgan
 e\, whose spirit continues to guide the music from beyond.\nhttps://clubde
 lf.com/\nJOHN MEDESKIhttps://www.johnmedeski.com/\nJONNY G.https://www.jon
 nygmusic.com/
ATTACH;FMTTYPE=image/jpeg:https://kingstonhappenings.org/wp-content/upload
 s/2026/04/641367148_1572033591388864_5858003729676633667_n.jpg
CATEGORIES:@Featured,@Newsletter,Music,Nightlife and entertainment
LOCATION:Colony Woodstock NY\, 22 Rock City Rd\, Woodstock\, New York\, Uni
 ted States
GEO:42.0424924;-74.11799489999999
X-APPLE-STRUCTURED-LOCATION;VALUE=URI;X-ADDRESS=22 Rock City Rd\, Woodstock
 \, New York\, United States;X-APPLE-RADIUS=100;X-TITLE=Colony Woodstock NY
 :geo:42.0424924,-74.11799489999999
END:VEVENT
BEGIN:VTIMEZONE
TZID:America/New_York
X-LIC-LOCATION:America/New_York
BEGIN:DAYLIGHT
DTSTART:20260308T030000
TZOFFSETFROM:-0500
TZOFFSETTO:-0400
TZNAME:EDT
END:DAYLIGHT
END:VTIMEZONE
END:VCALENDAR