BEGIN:VCALENDAR
VERSION:2.0
PRODID:-//wp-events-plugin.com//7.2.3.1//EN
TZID:America/New_York
X-WR-TIMEZONE:America/New_York
BEGIN:VEVENT
UID:151454@kingstonhappenings.org
DTSTART;TZID=America/New_York:20250918T170000
DTEND;TZID=America/New_York:20250918T183000
DTSTAMP:20250917T013208Z
URL:https://kingstonhappenings.org/events/citizens-preparedness-corps-pres
 entation/
SUMMARY:Citizens Preparedness Corps Presentation
DESCRIPTION:Are you and your pets ready in case of an emergency? Are you pr
 epared to shelter at home\, or evacuate\, if necessary\, during a disaster
 ? What items should you pack into your--and your pet’s--Go Bag?\n\n&nbsp
 \;\n\nSeptember is Preparedness Month\, and the Ulster County Animal Respo
 nse Team (UCART) and the Ulster County SPCA are once again teaming up to p
 rovide answers to these questions and more. The New York National Guard re
 turns to the Ulster County SPCA to present strategies and tools to prepare
  for any kind of disaster. The more prepared we are\, the more quickly we 
 can recover from an emergency. Pizza and beverages will be available. Ever
 y attendee will receive a pet Go Bag (specify for a cat or a dog). Space i
 s limited! Please RSVP by email: UCART@UlsterCorps.com
ATTACH;FMTTYPE=image/jpeg:https://kingstonhappenings.org/wp-content/upload
 s/2025/08/UCART-Presentation-9.7.23.png
CATEGORIES:@Featured,@Newsletter,Community
LOCATION:Ulster County SPCA\, 20 Wiedy Rd.\, KINGSTON\, NY\, 12401\, United
  States
GEO:41.940486;-74.020219
X-APPLE-STRUCTURED-LOCATION;VALUE=URI;X-ADDRESS=20 Wiedy Rd.\, KINGSTON\, N
 Y\, 12401\, United States;X-APPLE-RADIUS=100;X-TITLE=Ulster County SPCA:ge
 o:41.940486,-74.020219
END:VEVENT
BEGIN:VTIMEZONE
TZID:America/New_York
X-LIC-LOCATION:America/New_York
BEGIN:DAYLIGHT
DTSTART:20250309T030000
TZOFFSETFROM:-0500
TZOFFSETTO:-0400
TZNAME:EDT
END:DAYLIGHT
END:VTIMEZONE
END:VCALENDAR