BEGIN:VCALENDAR
VERSION:2.0
PRODID:-//wp-events-plugin.com//7.2.3.1//EN
TZID:America/New_York
X-WR-TIMEZONE:America/New_York
BEGIN:VEVENT
UID:152808@kingstonhappenings.org
DTSTART;TZID=America/New_York:20251210T180000
DTEND;TZID=America/New_York:20251210T193000
DTSTAMP:20251208T204554Z
URL:https://kingstonhappenings.org/events/circle-of-friends-death-cafe-2/
SUMMARY:Circle of Friends Death Cafe
DESCRIPTION:CIRCLE OF FRIENDS DEATH CAFE at KINGSTON PUBLIC LIBRARY\nAll ar
 e welcome!   No admission!   Light refreshments!\nCFD Death Cafés are g
 atherings of people\, often strangers\, where we eat treats\, drink tea or
  coffee\, and confidentially have a conversation that breaks the taboo of 
 talking about dying and death. A Death Café is a group-directed conversat
 ion with no agenda\, objectives\, or themes. It is a discussion group rath
 er than a grief support or counseling session.\nAdmission is free\, but we
  ask you to register in advance by clicking here.
ATTACH;FMTTYPE=image/jpeg:https://kingstonhappenings.org/wp-content/upload
 s/2025/11/Death-Cafe-in-person.jpg
CATEGORIES:@Featured,@Newsletter,Community
LOCATION:Kingston Library\, 61 Crown St\, Kingston\, NY\, 12401\, United St
 ates
GEO:41.934381;-74.021982
X-APPLE-STRUCTURED-LOCATION;VALUE=URI;X-ADDRESS=61 Crown St\, Kingston\, NY
 \, 12401\, United States;X-APPLE-RADIUS=100;X-TITLE=Kingston Library:geo:4
 1.934381,-74.021982
END:VEVENT
BEGIN:VTIMEZONE
TZID:America/New_York
X-LIC-LOCATION:America/New_York
BEGIN:STANDARD
DTSTART:20251102T010000
TZOFFSETFROM:-0400
TZOFFSETTO:-0500
TZNAME:EST
END:STANDARD
END:VTIMEZONE
END:VCALENDAR