BEGIN:VCALENDAR
VERSION:2.0
PRODID:-//wp-events-plugin.com//7.2.3.1//EN
TZID:America/New_York
X-WR-TIMEZONE:America/New_York
BEGIN:VEVENT
UID:155019@kingstonhappenings.org
DTSTART;TZID=America/New_York:20260221T150000
DTEND;TZID=America/New_York:20260221T170000
DTSTAMP:20260128T131808Z
URL:https://kingstonhappenings.org/events/chronic-lyme-disability-advocacy
 -and-the-role-of-art-in-managing-understanding-and-living-with-illness-wit
 h-holly-ahern-jessica-d-brier-jiatong-luand-mary-beth-pfeiffer/
SUMMARY:Chronic Lyme\, Disability Advocacy\, and the Role of Art in Managin
 g\, Understanding\, and Living with Illness with Holly Ahern\, Jessica D. 
 Brier\, Jiatong Lu\,and Mary Beth Pfeiffer
DESCRIPTION:This panel is occasioned by the current CPW exhibition\, Nowher
 e Land\, and will address issues central to that exhibition’s content\, 
 including the role of art and disability advocacy in people’s experience
  of chronic Lyme disease. Nowhere Land is an ongoing documentary project t
 hat examines\, with fresh\, creative\, and broad range\, the systemic fail
 ures of the U.S. medical system in addressing chronic tick-borne illnesses
 . After her own neurological Lyme diagnosis in 2021\, artist Jiatong Lu be
 gan interviewing fellow Lyme patients\, and through a combination of text\
 , photographs\, and archival documents\, she highlights the fugitive and i
 nsidious nature of Lyme. Lu’s imagery\, alternately abstract and concret
 e\, reveals the profound physical\, psychological\, and financial toll of 
 this often overlooked\, hidden disease.\n\nModerated by Jessica D. Brier (
 Curator of Photography\, Loeb Art Center\, Vassar College)\, this panel wi
 ll include Holly Ahern (Emeritus Professor of Microbiology\, SUNY Adironda
 ck and Chief Scientific Officer\, Aces Diagnostics)\, Jiatong Lu (artist)\
 , and Mary Beth Pfeiffer (investigative reporter\, Author of Lyme: The Fir
 st Epidemic of Climate Change).
CATEGORIES:@Featured,Community,Educational classes and lectures
LOCATION:Center for Photography at Woodstock(CPW)\, 25 Dederick St. \, King
 ston\, NY\, 12401\, United States
GEO:41.92761;-73.998774
X-APPLE-STRUCTURED-LOCATION;VALUE=URI;X-ADDRESS=25 Dederick St. \, Kingston
 \, NY\, 12401\, United States;X-APPLE-RADIUS=100;X-TITLE=Center for Photog
 raphy at Woodstock(CPW):geo:41.92761,-73.998774
END:VEVENT
BEGIN:VTIMEZONE
TZID:America/New_York
X-LIC-LOCATION:America/New_York
BEGIN:STANDARD
DTSTART:20251102T010000
TZOFFSETFROM:-0400
TZOFFSETTO:-0500
TZNAME:EST
END:STANDARD
END:VTIMEZONE
END:VCALENDAR