BEGIN:VCALENDAR
VERSION:2.0
PRODID:-//wp-events-plugin.com//7.2.3.1//EN
TZID:America/New_York
X-WR-TIMEZONE:America/New_York
BEGIN:VEVENT
UID:156112@kingstonhappenings.org
DTSTART;TZID=America/New_York:20260411T200000
DTEND;TZID=America/New_York:20260411T200000
DTSTAMP:20260406T230105Z
URL:https://kingstonhappenings.org/events/chloe-radcliffe-assembly/
SUMMARY:Chloe Radcliffe @ Assembly
DESCRIPTION:Hailing from the Midwest and proud of it\, standup and actor Ch
 loe Radcliffe can be seen in Bradley Cooper’s latest film Is This Thing
  On? She was named a Just For Laughs 2025 New Face\, along with one of 
 Deadline’s 15 Comedians Ready To Break Out In 2025\, and one of Vulture
 ’s Comedians You Should And Will Know. So…get to knowin’ her\, for c
 hrissakes!\n\nA daredevil cyclist in NYC\, Chloe hosts In Tandem with Chl
 oe Radcliffe\, where she interviews other comedians while they ride a tand
 em bike together. Think Comedians in Cars\, but sweatier.\n\nChloe’s one
 -woman show CHEAT\, about her history of infidelity\, led The New York Ti
 mes’ recommendations for the New York Comedy Festival. She sold out her
  full-month run at the 2023 Edinburgh Fringe Festival\, with reviews calli
 ng it\, “Hilarious and sharply-crafted” (Deadline)\, “Worthy of the 
 greats like Mike Birbiglia” (Chortle)\, and “A new take on an old topi
 c\, with hard-hitting punchlines” (The New York Times). Chloe is current
 ly developing CHEAT for tv.\n\nChloe starred in Steven Soderbergh’s COM
 MAND Z\, and was nominated for a 2024 WGA award for her writing on the s
 eries. She has been seen on Comedy Central\, Don’t Tell Comedy\, and 
 After Midnight with Taylor Tomlinson. She was a staff writer on The Tonig
 ht Show with Jimmy Fallon\, has a comedy feature in development with Sony
 \, and was named a TBS Comic To Watch at the New York Comedy Festival.
ATTACH;FMTTYPE=image/jpeg:https://kingstonhappenings.org/wp-content/upload
 s/2026/04/385a8cec-d29a-43ea-881e-cda8cff16fa4-1.jpg
CATEGORIES:@Featured,@Newsletter,Comedy,Nightlife and entertainment
LOCATION:Assembly\, 236 Wall St. 3rd Floor\, KINGSTON\, NY\, 12401\, United
  States
GEO:41.931738;-74.018648
X-APPLE-STRUCTURED-LOCATION;VALUE=URI;X-ADDRESS=236 Wall St. 3rd Floor\, KI
 NGSTON\, NY\, 12401\, United States;X-APPLE-RADIUS=100;X-TITLE=Assembly:ge
 o:41.931738,-74.018648
END:VEVENT
BEGIN:VTIMEZONE
TZID:America/New_York
X-LIC-LOCATION:America/New_York
BEGIN:DAYLIGHT
DTSTART:20260308T030000
TZOFFSETFROM:-0500
TZOFFSETTO:-0400
TZNAME:EDT
END:DAYLIGHT
END:VTIMEZONE
END:VCALENDAR