BEGIN:VCALENDAR
VERSION:2.0
PRODID:-//wp-events-plugin.com//7.2.3.1//EN
TZID:America/New_York
X-WR-TIMEZONE:America/New_York
BEGIN:VEVENT
UID:156104@kingstonhappenings.org
DTSTART;TZID=America/New_York:20260404T190000
DTEND;TZID=America/New_York:20260404T230000
DTSTAMP:20260401T143837Z
URL:https://kingstonhappenings.org/events/charlie-chaplin-tribute-show/
SUMMARY:Charlie Chaplin Tribute Show
DESCRIPTION:Charlie Chaplin Tribute Show:\n\nSee pictures\, articles\, book
 s\, music\, memorabilia and films from the collection of Jean Haines.\n\nO
 pening Reception: Saturday April 4\, 7-11pm.\n\nMore Chaplin events each S
 aturday in April.\n\nFor updates\, see P.A.S.T. Facebook page or Jean Hain
 es Facebook page.
ATTACH;FMTTYPE=image/jpeg:https://kingstonhappenings.org/wp-content/upload
 s/2026/04/1000006699.jpg
CATEGORIES:Art,Comedy,Community,History,Movies,Nightlife and entertainment
LOCATION:P.A.S.T. Popular American Show Time\, 239 Fair St\, KINGSTON\, NY\
 , 12401\, NY\, United States
GEO:41.932353;-74.018009
X-APPLE-STRUCTURED-LOCATION;VALUE=URI;X-ADDRESS=239 Fair St\, KINGSTON\, NY
 \, 12401\, NY\, United States;X-APPLE-RADIUS=100;X-TITLE=P.A.S.T. Popular 
 American Show Time:geo:41.932353,-74.018009
END:VEVENT
BEGIN:VTIMEZONE
TZID:America/New_York
X-LIC-LOCATION:America/New_York
BEGIN:DAYLIGHT
DTSTART:20260308T030000
TZOFFSETFROM:-0500
TZOFFSETTO:-0400
TZNAME:EDT
END:DAYLIGHT
END:VTIMEZONE
END:VCALENDAR