BEGIN:VCALENDAR
VERSION:2.0
PRODID:-//wp-events-plugin.com//7.2.3.1//EN
TZID:America/New_York
X-WR-TIMEZONE:America/New_York
BEGIN:VEVENT
UID:156440@kingstonhappenings.org
DTSTART;TZID=America/New_York:20260425T190000
DTEND;TZID=America/New_York:20260425T190000
DTSTAMP:20260425T132221Z
URL:https://kingstonhappenings.org/events/charlie-chaplin-tribute-show-clo
 sing-party/
SUMMARY:Charlie Chaplin Tribute Show: Closing party
DESCRIPTION:Charlie Chaplin Tribute show: closing party.\n\nSee Chaplin pic
 tures\, books\, articles\, music\, memorabilia\, filmography from the coll
 ection of Jean Haines.\n\nSaturday April 25\, 7-11pm.\n\nPlease contact di
 rector Carol Bradshaw 845-663-5384 (call or text) to confirm your attendan
 ce.\n\n$10 admission.\n\n&nbsp\;\n\n&nbsp\;\n\n&nbsp\;
ATTACH;FMTTYPE=image/jpeg:https://kingstonhappenings.org/wp-content/upload
 s/2026/04/1000006754-scaled.jpg
CATEGORIES:@Featured,Comedy,Community,History,Movies
LOCATION:P.A.S.T. Popular American Show Time\, 239 Fair St\, KINGSTON\, NY\
 , 12401\, NY\, United States
GEO:41.932353;-74.018009
X-APPLE-STRUCTURED-LOCATION;VALUE=URI;X-ADDRESS=239 Fair St\, KINGSTON\, NY
 \, 12401\, NY\, United States;X-APPLE-RADIUS=100;X-TITLE=P.A.S.T. Popular 
 American Show Time:geo:41.932353,-74.018009
END:VEVENT
BEGIN:VTIMEZONE
TZID:America/New_York
X-LIC-LOCATION:America/New_York
BEGIN:DAYLIGHT
DTSTART:20260308T030000
TZOFFSETFROM:-0500
TZOFFSETTO:-0400
TZNAME:EDT
END:DAYLIGHT
END:VTIMEZONE
END:VCALENDAR