BEGIN:VCALENDAR
VERSION:2.0
PRODID:-//wp-events-plugin.com//7.2.3.1//EN
TZID:America/New_York
X-WR-TIMEZONE:America/New_York
BEGIN:VEVENT
UID:152220@kingstonhappenings.org
DTSTART;TZID=America/New_York:20251206T090000
DTEND;TZID=America/New_York:20251206T160000
DTSTAMP:20251201T191703Z
URL:https://kingstonhappenings.org/events/chambers-school-holiday-craft-ma
 rket/
SUMMARY:Chambers School Holiday Craft Market
DESCRIPTION:Chambers School is hosting its 4 Annual Craft Market! Come by t
 o see many local vendors\, food trucks\, and even some student crafters! T
 here is no entrance fee for our event.
ATTACH;FMTTYPE=image/jpeg:https://kingstonhappenings.org/wp-content/upload
 s/2025/10/2025-craft-fair-advertising-2.png
CATEGORIES:@Featured,@Newsletter,Community,Festivals and major community
 events,For kids,For seniors,Market
LOCATION:Chambers Elementary School\, 945 Morton Blvd\, Kingston\, New York
 \, United States
GEO:41.9578345;-73.9955579
X-APPLE-STRUCTURED-LOCATION;VALUE=URI;X-ADDRESS=945 Morton Blvd\, Kingston\
 , New York\, United States;X-APPLE-RADIUS=100;X-TITLE=Chambers Elementary 
 School:geo:41.9578345,-73.9955579
END:VEVENT
BEGIN:VTIMEZONE
TZID:America/New_York
X-LIC-LOCATION:America/New_York
BEGIN:STANDARD
DTSTART:20251102T010000
TZOFFSETFROM:-0400
TZOFFSETTO:-0500
TZNAME:EST
END:STANDARD
END:VTIMEZONE
END:VCALENDAR