BEGIN:VCALENDAR
VERSION:2.0
PRODID:-//wp-events-plugin.com//7.2.3.1//EN
TZID:America/New_York
X-WR-TIMEZONE:America/New_York
BEGIN:VEVENT
UID:156377@kingstonhappenings.org
DTSTART;TZID=America/New_York:20260424T190000
DTEND;TZID=America/New_York:20260426T160000
DTSTAMP:20260420T164325Z
URL:https://kingstonhappenings.org/events/catskill-ballet-theatre-presents
 -alice-in-wonderland/
SUMMARY:Catskill Ballet Theatre presents Alice in Wonderland
DESCRIPTION:Catskill Ballet Theatre returns to the Ulster Performing Arts C
 enter this April with its beloved production of Alice in Wonderland\, a fu
 ll-length ballet bringing Lewis Carroll’s fantastical world to life thro
 ugh classical dance.\n\nThis year’s production stars guest artist Lilit 
 Hogtanian as Alice. Hogtanian has performed as a featured artist with Slov
 ak National Theatre\, Ballet Memphis\, and Dance Theatre of Harlem\, and A
 lice in Wonderland marks her inaugural season with Catskill Ballet Theatre
 . Returning to the production is Ethan Schweitzer-Gaslin as the White Rabb
 it. Schweitzer-Gaslin has dazzled audiences in the Catskill Ballet Theatre
 ’s annual production of The Nutcracker as the lead soloist in Candy Cane
 s and the Soldier Doll.\n\n&nbsp\;\n\nAudiences will also meet new friends
  in Wonderland this season\, including the Walrus\, the Carpenter\, and th
 e Oysters\, joining familiar favorites like the Cheshire Cat\, the Queen o
 f Hearts\, and the Mad Hatter.\n\n“Alice’s adventures invite audiences
  to journey into a magical world filled with wonder\, curiosity\, and chil
 dlike delight. The creatures of Wonderland stretch the imagination and car
 ry audiences into a universe of the best kind of absurdity. This productio
 n remains a favorite for families throughout the Hudson Valley\, and we ar
 e thrilled to introduce new characters that will delight\, surprise\, and 
 charm audiences of all ages.”\n— Melissa Bierstock\, Artistic Director
 \n\nOrdering Directions\n\n\n\nPreferable way to purchase your tickets is 
 in-person at the Bardavon or Ulster Performing Arts box office.\n\nYou may
  also buy online at Ticketmaster.com (Ticketmaster fees will apply).\nPl
 ease note that Bardavon Member benefits and special discounts are not avai
 lable through Ticketmaster.\n\nTo all ticket buyers: Please be aware that 
 there are an increasing number of secondary outlets selling tickets at inf
 lated prices as well as other scams that we cannot control. The Bardavon/U
 PAC box offices and Ticketmaster are the only official sources for tickets
  for our events.\n\n
ATTACH;FMTTYPE=image/jpeg:https://kingstonhappenings.org/wp-content/upload
 s/2026/04/Alice_UPAC_web-image-990x792-1.jpg
CATEGORIES:@Featured,@Newsletter,Community,Dance,For kids,Nightlife and
 entertainment
LOCATION:Ulster Performing Arts Center (UPAC)\, 601 Broadway\, Kingston\, N
 ew York\, 12401\, United States
GEO:41.92931799999999;-74.004142
X-APPLE-STRUCTURED-LOCATION;VALUE=URI;X-ADDRESS=601 Broadway\, Kingston\, N
 ew York\, 12401\, United States;X-APPLE-RADIUS=100;X-TITLE=Ulster Performi
 ng Arts Center (UPAC):geo:41.92931799999999,-74.004142
END:VEVENT
BEGIN:VTIMEZONE
TZID:America/New_York
X-LIC-LOCATION:America/New_York
BEGIN:DAYLIGHT
DTSTART:20260308T030000
TZOFFSETFROM:-0500
TZOFFSETTO:-0400
TZNAME:EDT
END:DAYLIGHT
END:VTIMEZONE
END:VCALENDAR