BEGIN:VCALENDAR
VERSION:2.0
PRODID:-//wp-events-plugin.com//7.2.3.1//EN
TZID:America/New_York
X-WR-TIMEZONE:America/New_York
BEGIN:VEVENT
UID:152804@kingstonhappenings.org
DTSTART;TZID=America/New_York:20251126T190000
DTEND;TZID=America/New_York:20251126T220000
DTSTAMP:20251124T134837Z
URL:https://kingstonhappenings.org/events/carrie-zazz-band/
SUMMARY:Carrie Zazz Band
DESCRIPTION:Leave the cooking behind and put your dancing shoes on! Carrie 
 Zazz Band\, voted Hudson Valley Magazine’s Best Band\, Best Female Vocal
 ist and Best Male Vocalist\, multiple years in a row\, will be providing t
 he music at this amazing gem on the Hudson River. Reservations highly sugg
 ested: (845) 834-6007 or online on their website: https://www.thehudsonho
 useny.com/special-events. (Classic rock\, rock you can dance to\, country\
 , dance fave’s and originals!)
ATTACH;FMTTYPE=image/jpeg:https://kingstonhappenings.org/wp-content/upload
 s/2025/11/584662835_1414677487328179_7385728788197011793_n.jpg
CATEGORIES:@Featured,@Newsletter,Music,Nightlife and entertainment
LOCATION:HUDSON HOUSE DISTILLERY\, 1835 Route 9w\, West Park\, NY\, United 
 States
GEO:41.784639;-73.958819
X-APPLE-STRUCTURED-LOCATION;VALUE=URI;X-ADDRESS=1835 Route 9w\, West Park\,
  NY\, United States;X-APPLE-RADIUS=100;X-TITLE=HUDSON HOUSE DISTILLERY:geo
 :41.784639,-73.958819
END:VEVENT
BEGIN:VTIMEZONE
TZID:America/New_York
X-LIC-LOCATION:America/New_York
BEGIN:STANDARD
DTSTART:20251102T010000
TZOFFSETFROM:-0400
TZOFFSETTO:-0500
TZNAME:EST
END:STANDARD
END:VTIMEZONE
END:VCALENDAR