BEGIN:VCALENDAR
VERSION:2.0
PRODID:-//wp-events-plugin.com//7.2.3.1//EN
TZID:America/New_York
X-WR-TIMEZONE:America/New_York
BEGIN:VEVENT
UID:153048@kingstonhappenings.org
DTSTART;TZID=America/New_York;VALUE=DATE:20251213
DTEND;TZID=America/New_York;VALUE=DATE:20251215
DTSTAMP:20251215T144004Z
URL:https://kingstonhappenings.org/events/carols-with-the-cows/
SUMMARY:Carols with the Cows
DESCRIPTION:'Tis the season! Join us for a cozy afternoon of carols\, cocoa
 \, and cows! We’ve re-written some classic holiday songs for a festive c
 elebration of the season and\, of course\, our beloved rescued cows. You
 ’ll get to visit several of our rescued farmed animals\, sing along to o
 ur pre-written carols\, and watch as the animals' eyes light up with festi
 ve spirit! Afterwards\, we invite you to warm up with delicious cocoa\, ci
 der\, cookies and snacks — all vegan of course! This is a perfect opport
 unity to celebrate kindness and a compassionate holiday season with the wh
 ole family (all ages welcome).\nTOUR TIMES:Saturday\, December 13th at 10:
 30amSaturday\, December 13th at 1:30pmSunday\, December 14th at 10:30amSun
 day\, December 14th at 1:30pm\nPurchase tickets today at the link! Or\, vi
 sit our website for more information: casanctuary.orgQuestions? Email us 
 at tourstaff@casanctuary.org
ATTACH;FMTTYPE=image/jpeg:https://kingstonhappenings.org/wp-content/upload
 s/2025/12/573503978_1234423502048607_735187701031896265_n.jpg
CATEGORIES:@Featured,@Newsletter,Community,For kids
LOCATION:Catskill Animal Sanctuary\, 316 Old Stage Rd.\, Saugerties\, NY\, 
 United States
GEO:42.019079;-73.97087799999997
X-APPLE-STRUCTURED-LOCATION;VALUE=URI;X-ADDRESS=316 Old Stage Rd.\, Saugert
 ies\, NY\, United States;X-APPLE-RADIUS=100;X-TITLE=Catskill Animal Sanctu
 ary:geo:42.019079,-73.97087799999997
END:VEVENT
BEGIN:VTIMEZONE
TZID:America/New_York
X-LIC-LOCATION:America/New_York
BEGIN:STANDARD
DTSTART:20251102T010000
TZOFFSETFROM:-0400
TZOFFSETTO:-0500
TZNAME:EST
END:STANDARD
END:VTIMEZONE
END:VCALENDAR