BEGIN:VCALENDAR
VERSION:2.0
PRODID:-//wp-events-plugin.com//7.2.3.1//EN
TZID:America/New_York
X-WR-TIMEZONE:America/New_York
BEGIN:VEVENT
UID:154692@kingstonhappenings.org
DTSTART;TZID=America/New_York:20260117T190000
DTEND;TZID=America/New_York:20260117T220000
DTSTAMP:20260119T152504Z
URL:https://kingstonhappenings.org/events/carmen/
SUMMARY:CARMEN
DESCRIPTION:Carmen has spent her life since age 16 caring for her brother\,
  the local priest in their small Maltese village.\n\nWhen he dies suddenly
  three decades later\, a twist of fate leads the villagers to mistake her 
 for his successor.\n\nInstead of correcting them\, she steps into the role
 \, challenging patriarchal norms\, offering unconventional (and surprising
 ly effective) advice in the confessional\, and discovering her own indepen
 dence and voice.\n\nInspired by true events\, this vibrant comedy drama st
 ars Natascha McElhone and is praised by critics as “joyous\,” “charm
 ing\,” and a celebration of a long‑overlooked woman finally coming int
 o her own.
ATTACH;FMTTYPE=image/jpeg:https://kingstonhappenings.org/wp-content/upload
 s/2026/01/Carmen-smaller.jpg
CATEGORIES:@Featured,@Newsletter,Community,Movies
LOCATION:Congregation Emanuel of the Hudson Valley\, 243 Albany Ave\, Kings
 ton\, NY\, 12401\, United States
GEO:41.9358414;-74.00681729999997
X-APPLE-STRUCTURED-LOCATION;VALUE=URI;X-ADDRESS=243 Albany Ave\, Kingston\,
  NY\, 12401\, United States;X-APPLE-RADIUS=100;X-TITLE=Congregation Emanue
 l of the Hudson Valley:geo:41.9358414,-74.00681729999997
END:VEVENT
BEGIN:VTIMEZONE
TZID:America/New_York
X-LIC-LOCATION:America/New_York
BEGIN:STANDARD
DTSTART:20251102T010000
TZOFFSETFROM:-0400
TZOFFSETTO:-0500
TZNAME:EST
END:STANDARD
END:VTIMEZONE
END:VCALENDAR