BEGIN:VCALENDAR
VERSION:2.0
PRODID:-//wp-events-plugin.com//7.2.3.1//EN
TZID:America/New_York
X-WR-TIMEZONE:America/New_York
BEGIN:VEVENT
UID:152461@kingstonhappenings.org
DTSTART;TZID=America/New_York:20251130T140000
DTEND;TZID=America/New_York:20251130T160000
DTSTAMP:20251027T205533Z
URL:https://kingstonhappenings.org/events/carl-theodor-dreyers-the-passion
 -of-st-joan/
SUMMARY:Carl Theodor Dreyer's The Passion of St Joan
DESCRIPTION:With its script pulled straight from the trial minutes of the n
 ow-revered saint\, Carl Theodor Dreyer’s classic 1928 silent film recoun
 ts the bias and badgering from court officials\, whose inhumane treatment 
 of Jeanne d’Arc ultimately led to her execution. Maria Falconetti plays 
 the titular role in her final on-screen appearance\,... communicating Joan
 ’s sorrow and passion to the audience mainly with her eyes\, making for 
 a performance that is still hailed as transformative almost one hundred ye
 ars later.\n\nWith live accompaniment by Marta Waterman.
CATEGORIES:@Featured,History,Movies,Nightlife and entertainment
LOCATION:Rosendale Theater\, 408 Main St\, Rosendale\, New York\, 12472\, U
 nited States
GEO:41.8441401;-74.0821133
X-APPLE-STRUCTURED-LOCATION;VALUE=URI;X-ADDRESS=408 Main St\, Rosendale\, N
 ew York\, 12472\, United States;X-APPLE-RADIUS=100;X-TITLE=Rosendale Theat
 er:geo:41.8441401,-74.0821133
END:VEVENT
BEGIN:VTIMEZONE
TZID:America/New_York
X-LIC-LOCATION:America/New_York
BEGIN:STANDARD
DTSTART:20251102T010000
TZOFFSETFROM:-0400
TZOFFSETTO:-0500
TZNAME:EST
END:STANDARD
END:VTIMEZONE
END:VCALENDAR