BEGIN:VCALENDAR
VERSION:2.0
PRODID:-//wp-events-plugin.com//7.2.3.1//EN
TZID:America/New_York
X-WR-TIMEZONE:America/New_York
BEGIN:VEVENT
UID:153250@kingstonhappenings.org
DTSTART;TZID=America/New_York:20251224T163000
DTEND;TZID=America/New_York:20251224T180000
DTSTAMP:20251229T185020Z
URL:https://kingstonhappenings.org/events/candlelight-christmas-eve-at-old
 -dutch-church-2/
SUMMARY:Candlelight Christmas Eve at Old Dutch Church
DESCRIPTION:Candlelight Christmas Eve at Old Dutch Church. Come early to ge
 t a good seat and enjoy our 4:30 PM BRASS CONCERT by fabulous students of 
 Bard College. Stay for our worship service at 5 PM\, a service of LESSONS 
 &amp\; CAROLS\, stories from the Bible and sacred music for friends and fa
 milies and children of all ages. Free as always. Everyone is welcome to ce
 lebrate Christmas joy!
ATTACH;FMTTYPE=image/jpeg:https://kingstonhappenings.org/wp-content/upload
 s/2025/12/598671705_1298175545681084_1335419924803092258_n-1.jpg
CATEGORIES:@Featured,@Newsletter,Community
LOCATION:Old Dutch Church\, 272 Wall St\, Kingston\, NY\, 12401\, United St
 ates
GEO:41.932863;-74.018839
X-APPLE-STRUCTURED-LOCATION;VALUE=URI;X-ADDRESS=272 Wall St\, Kingston\, NY
 \, 12401\, United States;X-APPLE-RADIUS=100;X-TITLE=Old Dutch Church:geo:4
 1.932863,-74.018839
END:VEVENT
BEGIN:VTIMEZONE
TZID:America/New_York
X-LIC-LOCATION:America/New_York
BEGIN:STANDARD
DTSTART:20251102T010000
TZOFFSETFROM:-0400
TZOFFSETTO:-0500
TZNAME:EST
END:STANDARD
END:VTIMEZONE
END:VCALENDAR