BEGIN:VCALENDAR
VERSION:2.0
PRODID:-//wp-events-plugin.com//7.2.3.1//EN
TZID:America/New_York
X-WR-TIMEZONE:America/New_York
BEGIN:VEVENT
UID:156009@kingstonhappenings.org
DTSTART;TZID=America/New_York:20260326T190000
DTEND;TZID=America/New_York:20260326T190000
DTSTAMP:20260324T190514Z
URL:https://kingstonhappenings.org/events/bridge-arts-community-jazz-band-
 benefit-for-paul-duffy/
SUMMARY:Bridge Arts Community Jazz Band Benefit for Paul Duffy
DESCRIPTION:The Bridge Arts Community Jazz Band presents a special Jazz Sho
 wcase in support of pianist Paul Duffy as he rebuilds after the loss of hi
 s home by fire.\nJoin us for an evening of live jazz featuring music by Ma
 ncini\, Mingus\, Nestico\, Barnet\, Fernández\, and Mantooth and more.\nT
 his is a Pay What You Wish event\, and all donations will go directly to P
 aul.\nLet’s fill the room\, lift the music\, and show up in a big way fo
 r one of our own.\nSeating is limited. Early arrival encouraged.
ATTACH;FMTTYPE=image/jpeg:https://kingstonhappenings.org/wp-content/upload
 s/2026/03/633493216_1383668183805344_529264112914563372_n.jpg
CATEGORIES:@Featured,@Newsletter,Community,Music,Nightlife and
 entertainment
LOCATION:Trinity Lutheran Church\, \, 
X-APPLE-STRUCTURED-LOCATION;VALUE=URI;X-ADDRESS=\, ;X-APPLE-RADIUS=100;X-TI
 TLE=Trinity Lutheran Church:geo:0,0
END:VEVENT
BEGIN:VTIMEZONE
TZID:America/New_York
X-LIC-LOCATION:America/New_York
BEGIN:DAYLIGHT
DTSTART:20260308T030000
TZOFFSETFROM:-0500
TZOFFSETTO:-0400
TZNAME:EDT
END:DAYLIGHT
END:VTIMEZONE
END:VCALENDAR