BEGIN:VCALENDAR
VERSION:2.0
PRODID:-//wp-events-plugin.com//7.2.3.1//EN
TZID:America/New_York
X-WR-TIMEZONE:America/New_York
BEGIN:VEVENT
UID:152448@kingstonhappenings.org
DTSTART;TZID=America/New_York:20251213T150000
DTEND;TZID=America/New_York:20251213T150000
DTSTAMP:20251208T204604Z
URL:https://kingstonhappenings.org/events/brian-mitchell-and-friends/
SUMMARY:Brian Mitchell and Friends
DESCRIPTION:The Saugerties Celebration of Harmony is a concert taking place
  at the Saugerties Reformed Church on \n\nDecember 13\, 2025 at 3:00 pm
   Brian Mitchell and Friends will be performing.\n\n$20 suggested Donati
 on.  Proceeds from this concert to benefit The Saugerties Area Food Pant
 ries
CATEGORIES:@Featured,@Newsletter,Music
LOCATION:Saugerties\, NY\, 1 Main St\, Saugerties\, NY\, 12401\, United Sta
 tes
GEO:42.080915;-73.944363
X-APPLE-STRUCTURED-LOCATION;VALUE=URI;X-ADDRESS=1 Main St\, Saugerties\, NY
 \, 12401\, United States;X-APPLE-RADIUS=100;X-TITLE=Saugerties\, NY:geo:42
 .080915,-73.944363
END:VEVENT
BEGIN:VTIMEZONE
TZID:America/New_York
X-LIC-LOCATION:America/New_York
BEGIN:STANDARD
DTSTART:20251102T010000
TZOFFSETFROM:-0400
TZOFFSETTO:-0500
TZNAME:EST
END:STANDARD
END:VTIMEZONE
END:VCALENDAR