BEGIN:VCALENDAR
VERSION:2.0
PRODID:-//wp-events-plugin.com//7.2.3.1//EN
TZID:America/New_York
X-WR-TIMEZONE:America/New_York
BEGIN:VEVENT
UID:155798@kingstonhappenings.org
DTSTART;TZID=America/New_York:20260318T083000
DTEND;TZID=America/New_York:20260318T100000
DTSTAMP:20260316T191018Z
URL:https://kingstonhappenings.org/events/breakfast-club/
SUMMARY:Breakfast Club
DESCRIPTION:Start your morning in good company.\nMarch Breakfast Club at (C
 reative Legion)\nWednesday\, March 18TH\n8:30AM - 10:00AM\nBreakfast Club 
 is a casual gathering designed to bring the Hudson-Area creative community
  together before the day takes over. Coffee on. Morning snacks will be pro
 vided.\nCome for 20 minutes or stay the whole morning.\nAdmission is free.
 \nRSVP Required.
ATTACH;FMTTYPE=image/jpeg:https://kingstonhappenings.org/wp-content/upload
 s/2026/03/Breakfast_Sept_noText-4.png
CATEGORIES:@Featured,@Newsletter,Art,Community
LOCATION:(Creative Legion)\, 7 Fairview Ave\, Hudson\, NY\, 12534\, NY\, Un
 ited States
GEO:42.247276;-73.774149
X-APPLE-STRUCTURED-LOCATION;VALUE=URI;X-ADDRESS=7 Fairview Ave\, Hudson\, N
 Y\, 12534\, NY\, United States;X-APPLE-RADIUS=100;X-TITLE=(Creative Legion
 ):geo:42.247276,-73.774149
END:VEVENT
BEGIN:VTIMEZONE
TZID:America/New_York
X-LIC-LOCATION:America/New_York
BEGIN:DAYLIGHT
DTSTART:20260308T030000
TZOFFSETFROM:-0500
TZOFFSETTO:-0400
TZNAME:EDT
END:DAYLIGHT
END:VTIMEZONE
END:VCALENDAR