BEGIN:VCALENDAR
VERSION:2.0
PRODID:-//wp-events-plugin.com//7.2.3.1//EN
TZID:America/New_York
X-WR-TIMEZONE:America/New_York
BEGIN:VEVENT
UID:153338@kingstonhappenings.org
DTSTART;TZID=America/New_York:20260110T100000
DTEND;TZID=America/New_York:20260110T160000
DTSTAMP:20260101T002243Z
URL:https://kingstonhappenings.org/events/breakbread-fundamentals-the-art-
 of-breakbread-workshop/
SUMMARY:BreakBread Fundamentals: The Art of BreakBread Workshop
DESCRIPTION:Reclaim Connection Through Presence\, Ritual\, and Conversation
  at the Dinner Table. Join us for a day-long immersive introduction to the
  ritual\, philosophy\, and craft behind BreakBread. You’ll experience ho
 w BreakBread works as a sacred structure for connection and community-buil
 ding—and learn what goes into creating the kind of gathering where peopl
 e feel safe\, brave\, present\, and fully human. And the next day\, you’
 ll step directly into the experience by participating in a full BreakBread
  Gathering included with your registration.\n\nInformation: https://www.br
 eakbread.world/event/breakbread-world-fundamentals-the-art-of-breakbread/\
 n\nRegistration: https://www.breakbread.world/registration-breakbread-fund
 amentals-workshop/
ATTACH;FMTTYPE=image/jpeg:https://kingstonhappenings.org/wp-content/upload
 s/2025/12/Nov-1-BBFund-Flyer-1-scaled-1.jpg
CATEGORIES:@Featured,Community,Educational classes and lectures
LOCATION:Evolutionary Psychotherapy\, 291 Wall Street\, 3rd Floor\, KINGSTO
 N\, NY\, 12401\, United States
GEO:41.933544;-74.019868
X-APPLE-STRUCTURED-LOCATION;VALUE=URI;X-ADDRESS=291 Wall Street\, 3rd Floor
 \, KINGSTON\, NY\, 12401\, United States;X-APPLE-RADIUS=100;X-TITLE=Evolut
 ionary Psychotherapy:geo:41.933544,-74.019868
END:VEVENT
BEGIN:VTIMEZONE
TZID:America/New_York
X-LIC-LOCATION:America/New_York
BEGIN:STANDARD
DTSTART:20251102T010000
TZOFFSETFROM:-0400
TZOFFSETTO:-0500
TZNAME:EST
END:STANDARD
END:VTIMEZONE
END:VCALENDAR