BEGIN:VCALENDAR
VERSION:2.0
PRODID:-//wp-events-plugin.com//7.2.3.1//EN
TZID:America/New_York
X-WR-TIMEZONE:America/New_York
BEGIN:VEVENT
UID:155838@kingstonhappenings.org
DTSTART;TZID=America/New_York:20260329T110000
DTEND;TZID=America/New_York:20260329T130000
DTSTAMP:20260324T190523Z
URL:https://kingstonhappenings.org/events/brazilian-choro-instrumental-wor
 kshop-with-the-masters/
SUMMARY:Brazilian Choro Instrumental Workshop with the Masters
DESCRIPTION:\n\nJoin us for a Brazilian Choro instrumental workshop led b
 y masters Mike Marshall (mandolin) and Alessandro Penezzi (7 string gu
 itar).\n\nGET TICKETS HERE\n\nAll instruments welcome!\n\nThese two virtuo
 sos will share their deep insights into the magic of this wonderful musica
 l style. Whether you come from Bluegrass\, Jazz or a Classical music backg
 round you are welcome to join in.\n\nThey will create a large Roda de Cho
 ro (jam session) with everyone participating in a grand Kingston Choro O
 rchestra. Mandolins\, guitars\, violins\, flutes\, clarinets and percussio
 nists welcome!\n\nMusic provided in advance including mandolin tablature.\
 n\nIn 1995\, after a trip to Brazil\, Mike Marshall fell in love Brazili
 an Choro music and went on to spear-head a Renaissance for that style in t
 he U.S. with his group Choro Famoso and his label Adventure Music. Mike
  also recorded Brazilian music with fellow mandolinist Hamilton de Holanda
  and pianist Jovino Santos Neto. As an educator\, Mike is currently the di
 rector of the American Music Seminar at the Savannah Music Festival\, wher
 e each spring he hand-selects 16 young acoustic musicians from around the 
 world to meet for a week-long intensive. Mike also teaches online through 
 the ArtistWorks company where for 10 years Mike has provided one-on-one vi
 deo exchange education for thousands of mandolinists from around the world
 .\n\nBorn in Piracicaba\, Spain\, Alessandro Penezzi is one of the great
  virtuosos of Brazilian guitar. His concerts have been seen in various cou
 ntries including the USA\, Russia\, Japan\, Gabon\, Angola\, Italy\, Germa
 ny\, Denmark\, Kosovo\, Macedonia\, Belgium\, the Netherlands\, Argentina\
 , Uruguay\, Colombia\, Morocco\, and Portugal. Graduated in Popular Music 
 from Unicamp with a specialization in Creative Processes from Faculdade So
 uza Lima\, he has been teaching courses\, workshops\, and seminars at vari
 ous music festivals in Brazil and abroad. A multi-instrumentalist – he p
 lays 7-string guitar\, tenor guitar\, cavaquinho\, mandolin and flute – 
 and [is] a prolific composer. He has received honors and nominations for h
 is performances as an instrumentalist and composer\, and has been highligh
 ted in the Visa MPB Instrumental (2001)\, Tim de Música Brasileira (2006)
 \, Shell de Teatro and Prêmio da Música Brasileira (2006) awards.\n\n\n\
 n\n----Workshop Price: $50\n\n&nbsp\;\n\n
ATTACH;FMTTYPE=image/jpeg:https://kingstonhappenings.org/wp-content/upload
 s/2026/03/Mike-and-Alessandro-1.jpg
CATEGORIES:@Featured,@Newsletter,Educational classes and lectures
LOCATION:Tempo Arts\, 29 Wurts St. \, KINGSTON\, NY\, 12401\, United States
GEO:41.918241;-73.986437
X-APPLE-STRUCTURED-LOCATION;VALUE=URI;X-ADDRESS=29 Wurts St. \, KINGSTON\, 
 NY\, 12401\, United States;X-APPLE-RADIUS=100;X-TITLE=Tempo Arts:geo:41.91
 8241,-73.986437
END:VEVENT
BEGIN:VTIMEZONE
TZID:America/New_York
X-LIC-LOCATION:America/New_York
BEGIN:DAYLIGHT
DTSTART:20260308T030000
TZOFFSETFROM:-0500
TZOFFSETTO:-0400
TZNAME:EDT
END:DAYLIGHT
END:VTIMEZONE
END:VCALENDAR