BEGIN:VCALENDAR
VERSION:2.0
PRODID:-//wp-events-plugin.com//7.2.3.1//EN
TZID:America/New_York
X-WR-TIMEZONE:America/New_York
BEGIN:VEVENT
UID:155364@kingstonhappenings.org
DTSTART;TZID=America/New_York:20260218T190000
DTEND;TZID=America/New_York:20260218T190000
DTSTAMP:20260223T124917Z
URL:https://kingstonhappenings.org/events/brad-cole-bossa-blue/
SUMMARY:Brad Cole & Bossa Blue!
DESCRIPTION:Bossa Blue is a critically acclaimed musical collective has bui
 lt a reputation for delivering unforgettable live performances. The band
 ’s members\, Brad Cole (guitar and vocals)\, Mark Dann (bass and harmoni
 es)\, Eric Nies (keyboards and harmonies)\, and Gil Oliveira (drums &amp\;
  percussion)\, Bobby Sabella (drums &amp\; percussion) share a passion for
  taking great songwriting to the next level.Their stylistic mash-ups encom
 pass rock\, jazz\, funk\, afropop\, Latin grooves and fresh harmonies\, cr
 eating a live experience that blends each crowd\, venue\, and composition 
 into a unique energetic happening. Formed in Chicago in 2017 and now settl
 ed in New York’s Hudson Valley\, Bossa Blue continues to push the bounda
 ries of musical fusion.Cole’s numerous side projects include: the jazz /
  blues project Bossa Blue and the acclaimed trio Cole\, Nakoa &amp\; Treac
 her . In 2016\, his life and music became the subject of a short ﬁlm tit
 led Cole Soul by award-winning ﬁlm maker Steven Weiss. In 2021\, Cole la
 unched his Sci-Fi musical Songs From The Moon as a 1 man show and as a pod
 cast series. Currently Cole lives in New York’s Hudson Valley.\nYou can 
 check them out here - https://bradcolemusic.com/https://www.youtube.com/w
 atch?v=mSYuZMeeVb0\nWednesday February 18thDoors: 6pm/ Show:7pm$20 Suggest
 ed Donation
ATTACH;FMTTYPE=image/jpeg:https://kingstonhappenings.org/wp-content/upload
 s/2026/02/600297040_1512165540709003_6546784808125847936_n-e1771263060516.
 jpg
CATEGORIES:@Featured,@Newsletter,Music,Nightlife and entertainment
LOCATION:Colony Woodstock NY\, 22 Rock City Rd\, Woodstock\, New York\, Uni
 ted States
GEO:42.0424924;-74.11799489999999
X-APPLE-STRUCTURED-LOCATION;VALUE=URI;X-ADDRESS=22 Rock City Rd\, Woodstock
 \, New York\, United States;X-APPLE-RADIUS=100;X-TITLE=Colony Woodstock NY
 :geo:42.0424924,-74.11799489999999
END:VEVENT
BEGIN:VTIMEZONE
TZID:America/New_York
X-LIC-LOCATION:America/New_York
BEGIN:STANDARD
DTSTART:20251102T010000
TZOFFSETFROM:-0400
TZOFFSETTO:-0500
TZNAME:EST
END:STANDARD
END:VTIMEZONE
END:VCALENDAR