BEGIN:VCALENDAR
VERSION:2.0
PRODID:-//wp-events-plugin.com//7.2.3.1//EN
TZID:America/New_York
X-WR-TIMEZONE:America/New_York
BEGIN:VEVENT
UID:152198@kingstonhappenings.org
DTSTART;TZID=America/New_York:20251206T130000
DTEND;TZID=America/New_York:20251206T180000
DTSTAMP:20251006T175353Z
URL:https://kingstonhappenings.org/events/boundless-creativity-gallery-hou
 rs-2-2025-12-06/
SUMMARY:Boundless Creativity Gallery Hours
DESCRIPTION:&nbsp\;\n\nBoundless Creativity returns in the Reher Center Gal
 lery with its third round of immigrant artists living in the Hudson Valley
 . Boundless showcases stunning works of art that both reference and transc
 end themes of national identity. Creativity knows no bounds–like the hum
 an spirit\, creativity moves freely across borders\, shaping and reshaping
  our shared world.\n\n&nbsp\;\n\nGALLERY HOURS:\n\nSunday: 12:30-5pm\n\nWe
 dnesday: 1-5pm\n\nFriday: 1-6pm\n\nSaturday: 1-3pm\; 3:30-6pm\n\n&nbsp\;\n
 \nAN EXHIBITION OF THE WORK OF: John Porritt\, Nadia Sablin\, Jayoung Yoon
 \, and Ishraq Zraikat\n\n&nbsp\;\n\nhttps://www.rehercenter.org/boundless/
ATTACH;FMTTYPE=image/jpeg:https://kingstonhappenings.org/wp-content/upload
 s/2025/10/boundless-pop-up-1-2.png
CATEGORIES:@Featured,Art,Attraction Hours,Museum and historic site hours
LOCATION:Reher Center for Immigrant Culture and History\, 99-101 Broadway\,
  Kingston\, NY\, 12401\, United States
GEO:41.920121;-73.986003
X-APPLE-STRUCTURED-LOCATION;VALUE=URI;X-ADDRESS=99-101 Broadway\, Kingston\
 , NY\, 12401\, United States;X-APPLE-RADIUS=100;X-TITLE=Reher Center for I
 mmigrant Culture and History:geo:41.920121,-73.986003
END:VEVENT
BEGIN:VTIMEZONE
TZID:America/New_York
X-LIC-LOCATION:America/New_York
BEGIN:STANDARD
DTSTART:20251102T010000
TZOFFSETFROM:-0400
TZOFFSETTO:-0500
TZNAME:EST
END:STANDARD
END:VTIMEZONE
END:VCALENDAR