BEGIN:VCALENDAR
VERSION:2.0
PRODID:-//wp-events-plugin.com//7.2.3.1//EN
TZID:America/New_York
X-WR-TIMEZONE:America/New_York
BEGIN:VEVENT
UID:152006@kingstonhappenings.org
DTSTART;TZID=America/New_York:20251004T160000
DTEND;TZID=America/New_York:20251004T180000
DTSTAMP:20250922T175806Z
URL:https://kingstonhappenings.org/events/boundless-creativity-exhibition-
 opening/
SUMMARY:Boundless Creativity Exhibition Opening
DESCRIPTION:Boundless Creativity returns in the Reher Center Gallery with i
 ts third round of immigrant artists living in the Hudson Valley. Boundless
  showcases stunning works of art that both reference and transcend themes 
 of national identity. Creativity knows no bounds–like the human spirit\,
  creativity moves freely across borders\, shaping and reshaping our shared
  world.\n\nVist www.rehercenter.org/boundless to learn more.\n\nAN EXHIBIT
 ION OF THE WORK OF: John Porritt\, Nadia Sablin\, Jayoung Yoon\, and Ishra
 q Zraikat
ATTACH;FMTTYPE=image/jpeg:https://kingstonhappenings.org/wp-content/upload
 s/2025/09/Untitled-design-6-1.png
CATEGORIES:@Featured,Art,Attraction Hours,Community,Museum and historic
 site hours
LOCATION:Reher Center for Immigrant Culture and History\, 99-101 Broadway\,
  Kingston\, NY\, 12401\, United States
GEO:41.920121;-73.986003
X-APPLE-STRUCTURED-LOCATION;VALUE=URI;X-ADDRESS=99-101 Broadway\, Kingston\
 , NY\, 12401\, United States;X-APPLE-RADIUS=100;X-TITLE=Reher Center for I
 mmigrant Culture and History:geo:41.920121,-73.986003
END:VEVENT
BEGIN:VTIMEZONE
TZID:America/New_York
X-LIC-LOCATION:America/New_York
BEGIN:DAYLIGHT
DTSTART:20250309T030000
TZOFFSETFROM:-0500
TZOFFSETTO:-0400
TZNAME:EDT
END:DAYLIGHT
END:VTIMEZONE
END:VCALENDAR