BEGIN:VCALENDAR
VERSION:2.0
PRODID:-//wp-events-plugin.com//7.2.3.1//EN
TZID:America/New_York
X-WR-TIMEZONE:America/New_York
BEGIN:VEVENT
UID:153380@kingstonhappenings.org
DTSTART;TZID=America/New_York:20260111T140000
DTEND;TZID=America/New_York:20260111T140000
DTSTAMP:20260112T125349Z
URL:https://kingstonhappenings.org/events/borscht-belt-discussions/
SUMMARY:Borscht Belt Discussions
DESCRIPTION:Culture\, cuisine\, and comedy came together to form an intrica
 te network of hotels\, bungalow colonies\, and resorts throughout New York
 ’s Catskill Mountains. With a strong Jewish lineage\, the Borscht Belt c
 ame to be known as a distinctly American story—one represented by a dive
 rse clientele that journeyed to the mountains in search of fellowship bask
 ing under the warmth of the summer sun. Now\, with the remaining hotel str
 uctures vanishing one by one\, it is through these remaining artifacts suc
 h as matchbooks\, silverware\, menus\, and even architectural details that
  this story can be shared. The lecture employs these relics to share with 
 visitors the complete and complicated story of the Borscht Belt—one that
  extends before the Civil War and reveals the many industries\, as well as
  individuals\, that made it successful. Displayed are a wide array of arti
 facts from the Richard L. Benjamin Archive of Borscht Belt Tourism History
 \, which works in conjunction with the Borscht Belt Museum in contributing
  artifacts for exhibits.Space is limited and signup suggested: https://hu
 rleylibrary.libcal.com/event/15363573\nAfter you attend this discussion\, 
 you can visit the Borscht Belt Museum in Ellenville for free with your lib
 rary card! Reserve the museum pass here: https://midhudsonlibraries.libca
 l.com/passes/09c37e97f918
ATTACH;FMTTYPE=image/jpeg:https://kingstonhappenings.org/wp-content/upload
 s/2026/01/605755300_1297454682409417_3049973009749877683_n.jpg
CATEGORIES:@Featured,@Newsletter,Community,Educational classes and
 lectures
LOCATION:Hurley Library\, 48 Main St\, Hurley\, New York\, United States
GEO:41.9253483;-74.06352420000002
X-APPLE-STRUCTURED-LOCATION;VALUE=URI;X-ADDRESS=48 Main St\, Hurley\, New Y
 ork\, United States;X-APPLE-RADIUS=100;X-TITLE=Hurley Library:geo:41.92534
 83,-74.06352420000002
END:VEVENT
BEGIN:VTIMEZONE
TZID:America/New_York
X-LIC-LOCATION:America/New_York
BEGIN:STANDARD
DTSTART:20251102T010000
TZOFFSETFROM:-0400
TZOFFSETTO:-0500
TZNAME:EST
END:STANDARD
END:VTIMEZONE
END:VCALENDAR