BEGIN:VCALENDAR
VERSION:2.0
PRODID:-//wp-events-plugin.com//7.2.3.1//EN
TZID:America/New_York
X-WR-TIMEZONE:America/New_York
BEGIN:VEVENT
UID:151891@kingstonhappenings.org
DTSTART;TZID=America/New_York:20251004T130000
DTEND;TZID=America/New_York:20251004T140000
DTSTAMP:20250916T125904Z
URL:https://kingstonhappenings.org/events/borscht-belt-architecture-design
 s-of-the-jewish-alps-with-alex-prizgintas/
SUMMARY:Borscht Belt Architecture: Designs of the Jewish Alps with Alex Pri
 zgintas
DESCRIPTION:Transitioning from his introductory “Borscht Belt Artifacts
 ” program\, this part two program highlights the legacy of interior and 
 exterior architecture that defined the Borscht Belt Catskills. Following t
 he “Silver Age” hotels of Victorian style that defined the late 19th c
 entury\, new Jewish hotels\, bungalow colonies\, and growing resorts added
  their own influences to existing structures. Several movements in archite
 cture\, such as Sullivan County Mission Style and Sullivan County Tudor St
 yle designs\, gained a popular reputation in the Borscht Belt. Then\, in t
 he 1950s\, the wave of Mid-Century Modern influences within this region of
  New York set the tone for hotel designs on a national scale. Using postca
 rds\, photographs\, images from antique brochures\, and modern-day scenes\
 , Alex Prizgintas reveals how this architecture helped to define elements 
 of the quintessential Borscht Belt experience from room design to recreati
 onal activities\, entertainment\, outdoor landscape\, and what architectur
 e features can still be seen today.\n\nJoin Alex Prizgintas with the Town 
 of Ulster Library on Saturday\, October 4th at 1:00 PM to view “Borscht 
 Belt Architecture: Designs of the Jewish Alps.” Since Prizgintas began 
 collecting items from the Borscht Belt ten years ago\, awareness for this 
 crucial aspect of our local past has rapidly expanded with the opening of 
 the Borscht Belt Museum in Ellenville\, the ongoing Borscht Belt Historica
 l Marker Project\, and a number of both films as well as books that have b
 een published. “Seeing this history finally receiving the recognition it
  deserves is incredibly rewarding\, and I am honored to be a part of this 
 new chapter for the memories of the Borscht Belt.”
ATTACH;FMTTYPE=image/jpeg:https://kingstonhappenings.org/wp-content/upload
 s/2025/09/Untitled-design-4.jpg
CATEGORIES:@Featured,Educational classes and lectures
LOCATION:Town of Ulster Library\, 860 Ulster Ave.\, Kingston\, New York\, 1
 2401\, United States
GEO:41.9546291;-73.99388220000003
X-APPLE-STRUCTURED-LOCATION;VALUE=URI;X-ADDRESS=860 Ulster Ave.\, Kingston\
 , New York\, 12401\, United States;X-APPLE-RADIUS=100;X-TITLE=Town of Ulst
 er Library:geo:41.9546291,-73.99388220000003
END:VEVENT
BEGIN:VTIMEZONE
TZID:America/New_York
X-LIC-LOCATION:America/New_York
BEGIN:DAYLIGHT
DTSTART:20250309T030000
TZOFFSETFROM:-0500
TZOFFSETTO:-0400
TZNAME:EDT
END:DAYLIGHT
END:VTIMEZONE
END:VCALENDAR