BEGIN:VCALENDAR
VERSION:2.0
PRODID:-//wp-events-plugin.com//7.2.3.1//EN
TZID:America/New_York
X-WR-TIMEZONE:America/New_York
BEGIN:VEVENT
UID:152291@kingstonhappenings.org
DTSTART;TZID=America/New_York:20251025T190000
DTEND;TZID=America/New_York:20251025T230000
DTSTAMP:20251010T120840Z
URL:https://kingstonhappenings.org/events/boolesque-at-hudson-house/
SUMMARY:BOOlesque at Hudson House
DESCRIPTION:Ginger Maraschino returns to the Hudson House for BOOlesque on 
 October 25th\, 2025.\nDon't miss out on this Spooky Soiree filled with daz
 zling dancers and live vocals from Miss Maraschino herself!\n\n \nSeating
  and menu service begins at 7:00pm \n(food/drink required per table)\nSho
 w starts at 8:00pm sharp\n\n \nTickets:\n$25 in advance\n$30 at the door
  \nThere will be a raffle and tipping the performers is highly encouraged
 ! \n\n \nJoining us for this Supper Show is Co-host\, Chewy! With perfor
 mances by Sizzlin Liz\, Kate Beyond\, Melina Mauve\, Bouchee Bardot\, and 
 our Stage Kitten\, Champagne Vixen.\nGrab your tickets now!
ATTACH;FMTTYPE=image/jpeg:https://kingstonhappenings.org/wp-content/upload
 s/2025/10/1.jpg
CATEGORIES:@Featured,Nightlife and entertainment
LOCATION:HUDSON HOUSE DISTILLERY\, 1835 Route 9w\, West Park\, NY\, United 
 States
GEO:41.784639;-73.958819
X-APPLE-STRUCTURED-LOCATION;VALUE=URI;X-ADDRESS=1835 Route 9w\, West Park\,
  NY\, United States;X-APPLE-RADIUS=100;X-TITLE=HUDSON HOUSE DISTILLERY:geo
 :41.784639,-73.958819
END:VEVENT
BEGIN:VTIMEZONE
TZID:America/New_York
X-LIC-LOCATION:America/New_York
BEGIN:DAYLIGHT
DTSTART:20250309T030000
TZOFFSETFROM:-0500
TZOFFSETTO:-0400
TZNAME:EDT
END:DAYLIGHT
END:VTIMEZONE
END:VCALENDAR