BEGIN:VCALENDAR
VERSION:2.0
PRODID:-//wp-events-plugin.com//7.2.3.1//EN
TZID:America/New_York
X-WR-TIMEZONE:America/New_York
BEGIN:VEVENT
UID:152400@kingstonhappenings.org
DTSTART;TZID=America/New_York:20251024T173000
DTEND;TZID=America/New_York:20251024T173000
DTSTAMP:20251020T162108Z
URL:https://kingstonhappenings.org/events/boo-at-the-zoo/
SUMMARY:Boo at the Zoo
DESCRIPTION:Join the Junior League of Kingston and the Friends of Forsyth N
 ature Center for a family friendly Halloween event. Come in costume for fu
 n (not so spooky) activities. Activities are geared towards pre-school/ele
 mentary age. Movie in the park at dark! Great for any age! Halloweentown!
ATTACH;FMTTYPE=image/jpeg:https://kingstonhappenings.org/wp-content/upload
 s/2025/10/560792771_1314076570764626_8014271968409274906_n.jpg
CATEGORIES:@Featured,@Newsletter,Music,Nightlife and entertainment
LOCATION:Forsyth Park\, Lucas Avenue\, Kingston\, NY\, 12401\, United State
 s
GEO:41.93182202372481;-74.02967588354494
X-APPLE-STRUCTURED-LOCATION;VALUE=URI;X-ADDRESS=Lucas Avenue\, Kingston\, N
 Y\, 12401\, United States;X-APPLE-RADIUS=100;X-TITLE=Forsyth Park:geo:41.9
 3182202372481,-74.02967588354494
END:VEVENT
BEGIN:VTIMEZONE
TZID:America/New_York
X-LIC-LOCATION:America/New_York
BEGIN:DAYLIGHT
DTSTART:20250309T030000
TZOFFSETFROM:-0500
TZOFFSETTO:-0400
TZNAME:EDT
END:DAYLIGHT
END:VTIMEZONE
END:VCALENDAR