BEGIN:VCALENDAR
VERSION:2.0
PRODID:-//wp-events-plugin.com//7.2.3.1//EN
TZID:America/New_York
X-WR-TIMEZONE:America/New_York
BEGIN:VEVENT
UID:152733@kingstonhappenings.org
DTSTART;TZID=America/New_York:20251128T170000
DTEND;TZID=America/New_York:20251128T210000
DTSTAMP:20251120T122636Z
URL:https://kingstonhappenings.org/events/black-friday-sale-plus-paynes-gr
 ey-sky-live/
SUMMARY:BLACK FRIDAY SALE plus\, Paynes Grey Sky LIVE
DESCRIPTION:Black Friday\, a time when some wait in long lines and tackle p
 eople for televisions.\nOther people however go to their local brewery and
  cash in on some fantastic deals.\nAll 4 packs 20% off!  Block Party shir
 ts 10% off!  Plush Dog Toys 10% off!  All Wine Bottles 15% off! Gift Car
 d Promos! AND A Special Keg Tapping!\n\n\n\nPLUS\, our friends Paynes Grey
  Sky will be hitting the stage at 5PM!\n\nOpen 12-9\nMusic 5-8(Kitchen clo
 ses 1hr before closing time)\n\nStay tuned on our latest offerings by foll
 owing @rmv_cellars &amp\;@greatlifebrewingatrmv  &amp\;  joining our mai
 ling list here!\n\nDog-friendly. Family friendly.\n\n
ATTACH;FMTTYPE=image/jpeg:https://kingstonhappenings.org/wp-content/upload
 s/2025/11/BLACK-FRIDAY-SALE.png
CATEGORIES:@Featured,Music,Restaurant promotions
LOCATION:RMV Cellars\, 112 Burroughs Drive\, Esopus\, NY\, 12401\, United S
 tates
GEO:41.783753;-73.962551
X-APPLE-STRUCTURED-LOCATION;VALUE=URI;X-ADDRESS=112 Burroughs Drive\, Esopu
 s\, NY\, 12401\, United States;X-APPLE-RADIUS=100;X-TITLE=RMV Cellars:geo:
 41.783753,-73.962551
END:VEVENT
BEGIN:VTIMEZONE
TZID:America/New_York
X-LIC-LOCATION:America/New_York
BEGIN:STANDARD
DTSTART:20251102T010000
TZOFFSETFROM:-0400
TZOFFSETTO:-0500
TZNAME:EST
END:STANDARD
END:VTIMEZONE
END:VCALENDAR