BEGIN:VCALENDAR
VERSION:2.0
PRODID:-//wp-events-plugin.com//7.2.3.1//EN
TZID:America/New_York
X-WR-TIMEZONE:America/New_York
BEGIN:VEVENT
UID:151844@kingstonhappenings.org
DTSTART;TZID=America/New_York:20250921T080000
DTEND;TZID=America/New_York:20250921T080000
DTSTAMP:20250922T150115Z
URL:https://kingstonhappenings.org/events/bike-for-cancer-care-5k-run-walk
 /
SUMMARY:Bike For Cancer Care & 5K Run/Walk
DESCRIPTION:Join us for the 22nd annual Bike For Cancer Care &amp\; 5K Run/
 Walk on Sunday\, September 21\, 2025!\nThe event offers a 12-\, 25- and 50
  mile bike ride traveling throughout Ulster County and a family friendly 5
 K Run/Walk on the O&amp\;W Rail Trail behind the O&amp\;W Building on Hurl
 ey Avenue.\nThe first 100 registrants to sign up before September 1st will
  receive a FREE t-shirt!\nSign up on your own\, form a team\, ride\, run\,
  or walk... whatever you choose\, there is one common goal: to raise money
  for families fighting cancer in our community.\nRegistration fees:- 5K: $
 25 ($30 after 9/1)- 12-mile Ride: $25 ($30 after 9/1)- 25-mile Ride: $40 (
 $45 after 9/1)- 50-mile Ride: $60 ($65 after 9/1)\nFor more info: www.bik
 eforcancer.orgTo register: https://apps.bhfoundation.org/bfcc\nWhat’s R
 aised Here\, Stays Here! 
ATTACH;FMTTYPE=image/jpeg:https://kingstonhappenings.org/wp-content/upload
 s/2025/09/518339079_1117960493699132_1092824477228523623_n.jpg
CATEGORIES:@Featured,@Newsletter,Community,Festivals and major community
 events,For kids,Sports and recreation
LOCATION:Kingston\, NY\, 1 FakeStreetNameSoCheckDetail\, Kingston\, NY\, 12
 401\, United States
GEO:41.9270367;-73.99736080000002
X-APPLE-STRUCTURED-LOCATION;VALUE=URI;X-ADDRESS=1 FakeStreetNameSoCheckDeta
 il\, Kingston\, NY\, 12401\, United States;X-APPLE-RADIUS=100;X-TITLE=King
 ston\, NY:geo:41.9270367,-73.99736080000002
END:VEVENT
BEGIN:VTIMEZONE
TZID:America/New_York
X-LIC-LOCATION:America/New_York
BEGIN:DAYLIGHT
DTSTART:20250309T030000
TZOFFSETFROM:-0500
TZOFFSETTO:-0400
TZNAME:EDT
END:DAYLIGHT
END:VTIMEZONE
END:VCALENDAR