BEGIN:VCALENDAR
VERSION:2.0
PRODID:-//wp-events-plugin.com//7.2.3.1//EN
TZID:America/New_York
X-WR-TIMEZONE:America/New_York
BEGIN:VEVENT
UID:156400@kingstonhappenings.org
DTSTART;TZID=America/New_York:20260424T200000
DTEND;TZID=America/New_York:20260424T200000
DTSTAMP:20260420T164329Z
URL:https://kingstonhappenings.org/events/big-gay-hudson-valley-presents-b
 ronco-upstate-boylesque/
SUMMARY:Big Gay Hudson Valley presents: BRONCO - Upstate Boylesque
DESCRIPTION:\n\n\n\n\n\n\n\n\n\n\n\n\nBRONCO is bringing one of the BIGGEST
  names in male burlesque – the one and only TITO BONITO\, also known as 
 The Cuban Missile Crisis of Burlesque – to Kingston for a very special o
 ne-night only performance on Friday\, April 24th!\nBased in Los Angeles\, 
 California\, this edition of Bronco will be Tito’s Hudson Valley debut!\
 nOne of the most well-known (and lauded!) names in male burlesque\, Tito h
 as also been listed in 21st Century Burlesque’s Most Influential Industr
 y Figures in the World consecutively since 2018\, charting his highest in 
 2020\, at #7. In 2024\, Tito earned the title of ‘Entertainer of the Yea
 r’ at the Silver Tusk Awards.\nThe full cast of Bronco on April 24th inc
 ludes:\n-&gt\; Tito Bonito (@cubanmissilecrisis)-&gt\; JMV (@theonlyjmv)-&
 gt\; Ozzie (@markozzie)-&gt\; Jack Barrow (@mr.jackbarrow)-&gt\; with Stag
 e Support from Alpha Pup Kodiac (@vermontmuscle)\nAdmission to the bar: FR
 EE to drink\, Must have a paid ticket for the show.\n\n
ATTACH;FMTTYPE=image/jpeg:https://kingstonhappenings.org/wp-content/upload
 s/2026/04/665710942_1642485720159040_7420152081530701221_n.jpg
CATEGORIES:@Featured,@Newsletter,Music,Nightlife and entertainment
LOCATION:Unicorn Bar\, 224 Foxhall Ave.\, KINGSTON\, NY\, 12401\, United St
 ates
GEO:41.933684;-73.996845
X-APPLE-STRUCTURED-LOCATION;VALUE=URI;X-ADDRESS=224 Foxhall Ave.\, KINGSTON
 \, NY\, 12401\, United States;X-APPLE-RADIUS=100;X-TITLE=Unicorn Bar:geo:4
 1.933684,-73.996845
END:VEVENT
BEGIN:VTIMEZONE
TZID:America/New_York
X-LIC-LOCATION:America/New_York
BEGIN:DAYLIGHT
DTSTART:20260308T030000
TZOFFSETFROM:-0500
TZOFFSETTO:-0400
TZNAME:EDT
END:DAYLIGHT
END:VTIMEZONE
END:VCALENDAR