BEGIN:VCALENDAR
VERSION:2.0
PRODID:-//wp-events-plugin.com//7.2.3.1//EN
TZID:America/New_York
X-WR-TIMEZONE:America/New_York
BEGIN:VEVENT
UID:153100@kingstonhappenings.org
DTSTART;TZID=America/New_York:20251219T170000
DTEND;TZID=America/New_York:20251219T200000
DTSTAMP:20251216T143614Z
URL:https://kingstonhappenings.org/events/beyond-the-ridge/
SUMMARY:Beyond the Ridge
DESCRIPTION:\n\nBeyond the Ridge is a New Paltz based band who plays a mix 
 of original songs and covers layered with guitar\, mandolin\, drums\, bass
 \, harmonica\, flute and intricate harmony vocals. Beyond the Ridge is Mic
 hael Clarke\, Emmy Hastings\, Jim Pospisil\, Paul Rubeo and Paul Rubeo Jr.
 \n\n\nOpen 3-9\nHappy Hour 3-5\nMusic 5-8\n(Kitchen closes 1hr before clos
 ing time)\n\n\nStay tuned on our latest offerings by following @rmv_cellar
 s &amp\; @greatlifebrewingatrmv &amp\;  joining our mailing list here!\n\
 n\nDog-friendly. Family friendly.
ATTACH;FMTTYPE=image/jpeg:https://kingstonhappenings.org/wp-content/upload
 s/2025/12/RMV-CELLAR-GENERAL-900X1600-1.png
CATEGORIES:@Featured,@Newsletter,Music,Restaurant promotions
LOCATION:RMV Cellars\, 112 Burroughs Drive\, Esopus\, NY\, 12401\, United S
 tates
GEO:41.783753;-73.962551
X-APPLE-STRUCTURED-LOCATION;VALUE=URI;X-ADDRESS=112 Burroughs Drive\, Esopu
 s\, NY\, 12401\, United States;X-APPLE-RADIUS=100;X-TITLE=RMV Cellars:geo:
 41.783753,-73.962551
END:VEVENT
BEGIN:VTIMEZONE
TZID:America/New_York
X-LIC-LOCATION:America/New_York
BEGIN:STANDARD
DTSTART:20251102T010000
TZOFFSETFROM:-0400
TZOFFSETTO:-0500
TZNAME:EST
END:STANDARD
END:VTIMEZONE
END:VCALENDAR