BEGIN:VCALENDAR
VERSION:2.0
PRODID:-//wp-events-plugin.com//7.2.3.1//EN
TZID:America/New_York
X-WR-TIMEZONE:America/New_York
BEGIN:VEVENT
UID:153091@kingstonhappenings.org
DTSTART;TZID=America/New_York:20251212T170000
DTEND;TZID=America/New_York:20251212T200000
DTSTAMP:20251209T220333Z
URL:https://kingstonhappenings.org/events/beer-release-vinyl-by-dj-harlan-
 levine/
SUMMARY:Beer Release &amp\; Vinyl by Dj Harlan Levine
DESCRIPTION:We have had an incredible year so far. From crazy events\, to i
 ncredible music\, to fire filled nights.\nIt only seemed suiting to close 
 out 2025 with a new beer that has been in the works for well\, longer then
  we want to admit.\nNo great party is complete without incredible tunes. D
 J Harlan will be in the house spinning vinyl\, and a few tracks may have i
 nspired this delicious beauty.\n\nOpen 3-9\nHappy Hour 3-5\nVinyl 5-8\nFol
 low the event here.
ATTACH;FMTTYPE=image/jpeg:https://kingstonhappenings.org/wp-content/upload
 s/2025/12/HARLAN-1212.png
CATEGORIES:@Featured,@Newsletter
LOCATION:RMV Cellars\, 112 Burroughs Drive\, Esopus\, NY\, 12401\, United S
 tates
GEO:41.783753;-73.962551
X-APPLE-STRUCTURED-LOCATION;VALUE=URI;X-ADDRESS=112 Burroughs Drive\, Esopu
 s\, NY\, 12401\, United States;X-APPLE-RADIUS=100;X-TITLE=RMV Cellars:geo:
 41.783753,-73.962551
END:VEVENT
BEGIN:VTIMEZONE
TZID:America/New_York
X-LIC-LOCATION:America/New_York
BEGIN:STANDARD
DTSTART:20251102T010000
TZOFFSETFROM:-0400
TZOFFSETTO:-0500
TZNAME:EST
END:STANDARD
END:VTIMEZONE
END:VCALENDAR