BEGIN:VCALENDAR
VERSION:2.0
PRODID:-//wp-events-plugin.com//7.2.3.1//EN
TZID:America/New_York
X-WR-TIMEZONE:America/New_York
BEGIN:VEVENT
UID:152113@kingstonhappenings.org
DTSTART;TZID=America/New_York:20251002T180000
DTEND;TZID=America/New_York:20251002T180000
DTSTAMP:20251006T122329Z
URL:https://kingstonhappenings.org/events/beartoe-the-midnight-howl/
SUMMARY:Beartoe – the Midnight Howl
DESCRIPTION:Based in Central Florida\, singer/songwrirter Roberto Aguilar (
 Beartoe) has been performing all over the Southeast for more than 20 years
 . His shows range from solo\, trio\, or full band configurations with some
  of the finest players in Florida. Beartoe’s music blends elements of so
 ul\, blues\, country\, and folk to create a powerful and original sound.
ATTACH;FMTTYPE=image/jpeg:https://kingstonhappenings.org/wp-content/upload
 s/2025/09/beartoe-head-shot-1030x644-1-e1759274540336.webp
CATEGORIES:@Featured,@Newsletter,Nightlife and entertainment,Restaurant
 promotions
LOCATION:Keegan Ales\, 20 Saint James Street\, Kingston\, NY\, 12401\, Unit
 ed States
GEO:41.931504;-74.01187
X-APPLE-STRUCTURED-LOCATION;VALUE=URI;X-ADDRESS=20 Saint James Street\, Kin
 gston\, NY\, 12401\, United States;X-APPLE-RADIUS=100;X-TITLE=Keegan Ales:
 geo:41.931504,-74.01187
END:VEVENT
BEGIN:VTIMEZONE
TZID:America/New_York
X-LIC-LOCATION:America/New_York
BEGIN:DAYLIGHT
DTSTART:20250309T030000
TZOFFSETFROM:-0500
TZOFFSETTO:-0400
TZNAME:EDT
END:DAYLIGHT
END:VTIMEZONE
END:VCALENDAR