BEGIN:VCALENDAR
VERSION:2.0
PRODID:-//wp-events-plugin.com//7.2.3.1//EN
TZID:America/New_York
X-WR-TIMEZONE:America/New_York
BEGIN:VEVENT
UID:152329@kingstonhappenings.org
DTSTART;TZID=America/New_York:20251019T140000
DTEND;TZID=America/New_York:20251019T170000
DTSTAMP:20251013T140131Z
URL:https://kingstonhappenings.org/events/bark-tober-fest-at-keegan-ales/
SUMMARY:Bark-tober Fest at Keegan Ales
DESCRIPTION:Join us for Bark-tober Fest at Keegan Ales on Sunday\, October 
 19th\, from 2pm to 5pm to celebrate Bear's birthday! Includes a pet costum
 e contest and paw-rade\, bone bar for dogs\, raffle and games\, live music
  and special brew! Food and first drink included! $40 per person. Tickets 
 available on our website at www.ucspca.org and in-person at the event.
ATTACH;FMTTYPE=image/jpeg:https://kingstonhappenings.org/wp-content/upload
 s/2025/10/552098010_1256294829866076_3615475373650756270_n.jpg
CATEGORIES:@Featured,@Newsletter,Community
LOCATION:Keegan Ales\, 20 Saint James Street\, Kingston\, NY\, 12401\, Unit
 ed States
GEO:41.931504;-74.01187
X-APPLE-STRUCTURED-LOCATION;VALUE=URI;X-ADDRESS=20 Saint James Street\, Kin
 gston\, NY\, 12401\, United States;X-APPLE-RADIUS=100;X-TITLE=Keegan Ales:
 geo:41.931504,-74.01187
END:VEVENT
BEGIN:VTIMEZONE
TZID:America/New_York
X-LIC-LOCATION:America/New_York
BEGIN:DAYLIGHT
DTSTART:20250309T030000
TZOFFSETFROM:-0500
TZOFFSETTO:-0400
TZNAME:EDT
END:DAYLIGHT
END:VTIMEZONE
END:VCALENDAR