BEGIN:VCALENDAR
VERSION:2.0
PRODID:-//wp-events-plugin.com//7.2.3.1//EN
TZID:America/New_York
X-WR-TIMEZONE:America/New_York
BEGIN:VEVENT
UID:151992@kingstonhappenings.org
DTSTART;TZID=America/New_York:20250928T160000
DTEND;TZID=America/New_York:20250928T190000
DTSTAMP:20250922T145214Z
URL:https://kingstonhappenings.org/events/balkan-music-afternoon/
SUMMARY:Balkan Music Afternoon
DESCRIPTION:The 2025 edition of Balkan Music Afternoon at the Rail Trail Ca
 fe will feature bands from around the Hudson Valley that play Eastern Euro
 pean dance and listening music.\nWe will celebrate the changing of the sea
 sons as some villagers might in the Balkans. 4 pm til dusk.\nSchedule to b
 e announced in early September. Balkan dances will be taught throughout th
 e afternoon.\nBalkan Festival at the Rail Trail CafeSunday\, September 28\
 , 2025
ATTACH;FMTTYPE=image/jpeg:https://kingstonhappenings.org/wp-content/upload
 s/2025/09/541050440_1490077859072153_1454360468025470665_n.jpg
CATEGORIES:@Featured,@Newsletter,Music,Nightlife and entertainment
LOCATION:Rail Trail Cafe\, 310 River Rd. Ext. \, Rosendale\, NY\, 12401\, U
 nited States
GEO:41.81887;-74.08056
X-APPLE-STRUCTURED-LOCATION;VALUE=URI;X-ADDRESS=310 River Rd. Ext. \, Rosen
 dale\, NY\, 12401\, United States;X-APPLE-RADIUS=100;X-TITLE=Rail Trail Ca
 fe:geo:41.81887,-74.08056
END:VEVENT
BEGIN:VTIMEZONE
TZID:America/New_York
X-LIC-LOCATION:America/New_York
BEGIN:DAYLIGHT
DTSTART:20250309T030000
TZOFFSETFROM:-0500
TZOFFSETTO:-0400
TZNAME:EDT
END:DAYLIGHT
END:VTIMEZONE
END:VCALENDAR