BEGIN:VCALENDAR
VERSION:2.0
PRODID:-//wp-events-plugin.com//7.2.3.1//EN
TZID:America/New_York
X-WR-TIMEZONE:America/New_York
BEGIN:VEVENT
UID:153084@kingstonhappenings.org
DTSTART;TZID=America/New_York:20260228T000000
DTEND;TZID=America/New_York:20260228T000000
DTSTAMP:20260223T152204Z
URL:https://kingstonhappenings.org/events/back-to-the-eighties-show-with-j
 essies-girl/
SUMMARY:Back To The Eighties Show with Jessie’s Girl
DESCRIPTION:Tickets: https://bearsvilletheater.com/event/back-to-the-eighti
 es-show-with-jessies-girl
ATTACH;FMTTYPE=image/jpeg:https://kingstonhappenings.org/wp-content/upload
 s/2025/12/20260228_jessiesGirl_1200x628.png
CATEGORIES:@Featured,@Newsletter,Music
LOCATION:Bearsville Theater\, 291 Tinker St\, Woodstock\, New York\, United
  States
GEO:42.039887;-74.154127
X-APPLE-STRUCTURED-LOCATION;VALUE=URI;X-ADDRESS=291 Tinker St\, Woodstock\,
  New York\, United States;X-APPLE-RADIUS=100;X-TITLE=Bearsville Theater:ge
 o:42.039887,-74.154127
END:VEVENT
BEGIN:VTIMEZONE
TZID:America/New_York
X-LIC-LOCATION:America/New_York
BEGIN:STANDARD
DTSTART:20251102T010000
TZOFFSETFROM:-0400
TZOFFSETTO:-0500
TZNAME:EST
END:STANDARD
END:VTIMEZONE
END:VCALENDAR