BEGIN:VCALENDAR
VERSION:2.0
PRODID:-//wp-events-plugin.com//7.2.3.1//EN
TZID:America/New_York
X-WR-TIMEZONE:America/New_York
BEGIN:VEVENT
UID:153378@kingstonhappenings.org
DTSTART;TZID=America/New_York:20260110T173000
DTEND;TZID=America/New_York:20260110T173000
DTSTAMP:20260112T125342Z
URL:https://kingstonhappenings.org/events/b-i-n-g-o-is-b-a-c-k/
SUMMARY:B-I-N-G-O is B-A-C-K
DESCRIPTION:Man\,\nBingo was an absolute freaking blast. It was so much fun
  that we simply to bring it back.\nJoin us under the toasty pavilion for 6
 -7 games of fun. Free to play and plenty of prizes to choose from. Family 
 friendly too WOW.\nPlease Note\,\nOur kitchen will be CLOSED but Diego’s
  will be doing a popp up serving delicious tacos\, chips and queso and mor
 e.
ATTACH;FMTTYPE=image/jpeg:https://kingstonhappenings.org/wp-content/upload
 s/2026/01/597867843_1664620184876970_2923936160268249418_n.jpg
CATEGORIES:@Featured,@Newsletter,Comedy,Nightlife and entertainment
LOCATION:RMV Cellars\, 112 Burroughs Drive\, Esopus\, NY\, 12401\, United S
 tates
GEO:41.783753;-73.962551
X-APPLE-STRUCTURED-LOCATION;VALUE=URI;X-ADDRESS=112 Burroughs Drive\, Esopu
 s\, NY\, 12401\, United States;X-APPLE-RADIUS=100;X-TITLE=RMV Cellars:geo:
 41.783753,-73.962551
END:VEVENT
BEGIN:VTIMEZONE
TZID:America/New_York
X-LIC-LOCATION:America/New_York
BEGIN:STANDARD
DTSTART:20251102T010000
TZOFFSETFROM:-0400
TZOFFSETTO:-0500
TZNAME:EST
END:STANDARD
END:VTIMEZONE
END:VCALENDAR