BEGIN:VCALENDAR
VERSION:2.0
PRODID:-//wp-events-plugin.com//7.2.3.1//EN
TZID:America/New_York
X-WR-TIMEZONE:America/New_York
BEGIN:VEVENT
UID:152278@kingstonhappenings.org
DTSTART;TZID=America/New_York:20251028T173000
DTEND;TZID=America/New_York:20251028T190000
DTSTAMP:20251009T152029Z
URL:https://kingstonhappenings.org/events/author-talk-with-sarah-towle-cro
 ssing-the-line-finding-america-in-the-borderlands/
SUMMARY:Author Talk with Sarah Towle - Crossing the Line: Finding America i
 n the Borderlands
DESCRIPTION:Join us for a conversation with Sarah Towle author of Crossing 
 the Line: Finding America in the Borderlands.\n\n"Crossing the Line: Findi
 ng America in the Borderlands charts Towle's journey from outrage to acti
 vism to abolition as she exposes\, layer by broken layer\, the now global 
 deterrence-to-detention-to-deportation complex that is set up to fail ever
 yone — save the profiteers and demagogues who benefit from it.\n\nSarah 
 deftly weaves oral storytelling\, history\, and memoir together to illustr
 ate how US policy has led the charge in flouting post-WWII global commitme
 nts to protecting human rights. Yet within the web of criminalization and 
 cruelty\, Sarah finds hope in the extraordinary acts of ordinary heroes wh
 o prove\, every day\, that there is a better way. By amplifying their voic
 es and celebrating their efforts\, Sarah reveals that we can welcome with 
 dignity those most in need of safety and compassion. In unmasking the real
  root causes of the “crisis” in human migration\, she urges us to act 
 before we travel much further down our current course—one which history 
 will not soon forgive\, or forget."\n\nPresented in partnership with Amnes
 ty Mid-Hudson.\n\n&nbsp\;\n\nRegister:\n\nhttps://townofulsterlibrary.libc
 al.com/event/15487603
ATTACH;FMTTYPE=image/jpeg:https://kingstonhappenings.org/wp-content/upload
 s/2025/10/author-talk.png
CATEGORIES:@Featured,Educational classes and lectures
LOCATION:Town of Ulster Library\, 860 Ulster Ave.\, Kingston\, New York\, 1
 2401\, United States
GEO:41.9546291;-73.99388220000003
X-APPLE-STRUCTURED-LOCATION;VALUE=URI;X-ADDRESS=860 Ulster Ave.\, Kingston\
 , New York\, 12401\, United States;X-APPLE-RADIUS=100;X-TITLE=Town of Ulst
 er Library:geo:41.9546291,-73.99388220000003
END:VEVENT
BEGIN:VTIMEZONE
TZID:America/New_York
X-LIC-LOCATION:America/New_York
BEGIN:DAYLIGHT
DTSTART:20250309T030000
TZOFFSETFROM:-0500
TZOFFSETTO:-0400
TZNAME:EDT
END:DAYLIGHT
END:VTIMEZONE
END:VCALENDAR