BEGIN:VCALENDAR
VERSION:2.0
PRODID:-//wp-events-plugin.com//7.2.3.1//EN
TZID:America/New_York
X-WR-TIMEZONE:America/New_York
BEGIN:VEVENT
UID:152723@kingstonhappenings.org
DTSTART;TZID=America/New_York:20251206T110000
DTEND;TZID=America/New_York:20251207T170000
DTSTAMP:20251201T144414Z
URL:https://kingstonhappenings.org/events/artists-makers-holiday-market/
SUMMARY:Artists & Makers Holiday Market
DESCRIPTION:ArtPort Kingston will host a vibrant outdoor marketplace inspir
 ed by traditional European Winter Markets\, featuring local artisans\, hot
  food &amp\; drink\, children’s workshops\, performances\, and more!\n\n
 &nbsp\;\n\n 	Where: ArtYard Kingston - 80 Smith Ave\, Kingston NY 12401\n 
 	Admission: Suggested donation of $5.\n 	Interested in registering as a ve
 ndor? Sign up here. \n\n&nbsp\;\n\nArtPort Kingston is thrilled to announ
 ce the return of our annual Artists &amp\; Makers Holiday Market. The even
 t will showcase unique &amp\; affordable gifts from regional artists and a
 rtisans in a spirited marketplace inspired by traditional European Holiday
  Markets of old. Historically and today\, these outdoor markets featured v
 endors in a pop-up village-like encampment\, strewn with warm Christmas li
 ghts\, merry-go-rounds\, hot beverages\, and fun for the whole family. Tap
 ping into our origins in Berlin\, ArtPort Kingston will bring this age-old
  tradition to Kingston for the first time. \n\nThe event will take place 
 at ArtPort Kingston’s newest location\, ArtYard Kingston\, a creative co
 urtyard in Kingston’s Midtown neighborhood. Featuring a wide-variety of 
 art\, locally crafted goods\, antiques\, local cuisine and one-of-a-kind i
 tems\, the market offers a place for the Kingston community to meet and mi
 ngle in a festive atmosphere amidst performances and art installations\, w
 hile perusing the marketplace set in a heated tent structure. The event wi
 ll be open to the public with a suggested donation of $5 and will run from
  December 6-7 between the hours of 11-5 PM featuring a different selection
  of vendors each day.\n\nAttendees can expect to explore an eclectic mix o
 f handmade goods\, including exquisite jewelry\, captivating artwork\, int
 ricately crafted ceramics\, and much more. With a focus on authenticity an
 d originality\, each item on display tells a story of passion\, skill\, cr
 eativity\, and showcases small business from Kingston and the greater Huds
 on Valley. \n\n"We are delighted to provide a platform for local artisans
  to share their talents with the community\," says Laurie De Chiara\, Dire
 ctor at Artport Kingston. "Our Artists &amp\; Makers Markets are not only 
 a celebration of creativity but also an opportunity for individuals to con
 nect with the makers behind the art and discover one-of-a-kind treasures. 
 For more information about the event\, please visit www.artportkingston.or
 g/markets or email info@artportingston.org. 
ATTACH;FMTTYPE=image/jpeg:https://kingstonhappenings.org/wp-content/upload
 s/2025/11/Xmas-Market-9.jpg
CATEGORIES:@Featured
LOCATION:Artport\, 80 Smith Ave.\, Kingston\, NY\, 12401\, United States
GEO:41.92025;-73.978706
X-APPLE-STRUCTURED-LOCATION;VALUE=URI;X-ADDRESS=80 Smith Ave.\, Kingston\, 
 NY\, 12401\, United States;X-APPLE-RADIUS=100;X-TITLE=Artport:geo:41.92025
 ,-73.978706
END:VEVENT
BEGIN:VTIMEZONE
TZID:America/New_York
X-LIC-LOCATION:America/New_York
BEGIN:STANDARD
DTSTART:20251102T010000
TZOFFSETFROM:-0400
TZOFFSETTO:-0500
TZNAME:EST
END:STANDARD
END:VTIMEZONE
END:VCALENDAR